BEGIN:VCALENDAR
VERSION:2.0
PRODID:-//wp-events-plugin.com//7.2.3.1//EN
TZID:America/Detroit
X-WR-TIMEZONE:America/Detroit
BEGIN:VEVENT
UID:35247@arabamerica.com
DTSTART;TZID=America/Los_Angeles:20251115T183000
DTEND;TZID=America/Los_Angeles:20251115T210000
DTSTAMP:20251014T155439Z
URL:https://www.arabamerica.com/events/%d8%a3%d8%ac%d8%b1%d8%a7%d8%b3-%d8%
 a7%d9%84%d8%b9%d9%88%d8%af%d8%a9-the-bells-of-return/
SUMMARY:أجراس العودة The Bells of Return
DESCRIPTION:\n\nOverview\n\n\n\n\n\nThis concert explores music as a vessel
  of memory\, resistance\, and liberation through an homage to homeland and
  land-based memory.\n\n\n\nThe Bells of Return ~ Ajras Al 'awda ~ أجر
 اس العودة\nA concert of songs that evoke love for the land\, nosta
 lgia for place\, and the enduring connection to one’s roots through revo
 lutionary\, freedom\, and resistance songs that emerge from struggles agai
 nst colonialism\, occupation\, and political repression.\n\nPerformed by A
 swat Ensemble and featuring Aswat Youth\n\nSaturday\, November 15\, 2025\,
  7-9 p.m.\n\nLobby doors open at 6 p.m. Theater doors open/seating begins 
 at 6:30 p.m.\n\nCañada College Main Theatre District of Freedom\, 4200 Fa
 rm Hill Blvd\, Redwood City\, CA 94061\n\n\n\n\n\n
ATTACH;FMTTYPE=image/jpeg:https://www.arabamerica.com/wp-content/uploads/2
 025/10/https___cdn.evbuc_.com_images_1151718683_54920393361_1_original.jpg
CATEGORIES:California Event,concert,Live Arab Music,Live Concert
LOCATION:Cañada College Main Theatre District of Freedom\, 4200 Farm Hill 
 Blvd\, Redwood\, CA\, 94061\, United States
GEO:37.447386;-122.266364
X-APPLE-STRUCTURED-LOCATION;VALUE=URI;X-ADDRESS=4200 Farm Hill Blvd\, Redwo
 od\, CA\, 94061\, United States;X-APPLE-RADIUS=100;X-TITLE=Cañada College
  Main Theatre District of Freedom:geo:37.447386,-122.266364
END:VEVENT
BEGIN:VTIMEZONE
TZID:America/Los_Angeles
X-LIC-LOCATION:America/Los_Angeles
BEGIN:STANDARD
DTSTART:20251102T010000
TZOFFSETFROM:-0700
TZOFFSETTO:-0800
TZNAME:PST
END:STANDARD
END:VTIMEZONE
END:VCALENDAR