BEGIN:VCALENDAR
VERSION:2.0
PRODID:-//wp-events-plugin.com//7.2.3.1//EN
TZID:America/Detroit
X-WR-TIMEZONE:America/Detroit
BEGIN:VEVENT
UID:36123@arabamerica.com
DTSTART;TZID=America/Los_Angeles:20260615T093000
DTEND;TZID=America/Los_Angeles:20260619T150000
DTSTAMP:20260401T005700Z
URL:https://www.arabamerica.com/events/%e2%98%80%ef%b8%8fsummer-week-1-mid
 dle-east-ancient-civilizations/
SUMMARY:&#x2600\;&#xfe0f\;Summer Week 1-Middle East\, Ancient Civilizations
DESCRIPTION:Overview\n\n\n\n\n\nFor more information and special discounts\
 , check out our website www.RAZland.com\n\n\n\n\n\n\n&#x1f4c5\;Days: Mon\,
  Tue\, Wed\, Thurs\, and Fri\n\n&#x1f552\;Time: 9:30am - 3:00pm PDT\n\n&#x
 2728\;Date: Jun 15\, 2026 - Jun 19\, 2026(5 classes)\n\n&#x2705\; Ages: 5 
 - 12 yrs\n\nCultural Art with Stories:\n\nBe the healing light for the Mid
 dle East region\, and create art projects based on ancient civilizations o
 f Egypt and Israel\, magic carpets\, stories and designs of Iran\, and the
  futuristic architecture of the United Arab Emirates (UAE) and Qatar.\n&#x
 1f3a8\;Class Requirements\nAbility to remain engaged in art activities for
  45–60 minutes\n\nAbility to use a glue gun independently and safely\n\n
 Independence in managing basic needs (toileting and eating)\n\nDemonstrate
 s respect toward teachers and other campers\n&#x1f58d\;&#xfe0f\;What you'l
 l learn\nLimitless Imagination\n\nCritical Thinking\n\nNon-Judgmental Self
 -Expression\n\nTeam Work\n\nTaking Risks\n\nFinding their Uniqueness\n\nDe
 veloping curiosity\n\nHuman proportion and animal characteristics\n&#x1f45
 0\;Sample Class Format\nSmall Group Instruction: Students are grouped by s
 kill level and age to ensure personalized attention.\n\nLow Student-Teache
 r Ratio: Each group of 10 children is supported by one lead teacher and tw
 o assistants.\n\nDaily Flow: We complete 3–4 projects daily\, balanced w
 ith breaks for snacks\, lunch\, and playtime.\n\nView our Work: Check our 
 website and photo gallery to see our daily schedule and past projects!\n\n
 \n\n
ATTACH;FMTTYPE=image/jpeg:https://www.arabamerica.com/wp-content/uploads/2
 026/03/RAZ.webp
LOCATION:1054 S Robertson Blvd\, 1054 S Robertson Blvd\, Los Angeles\, CA\,
  90035\, United States
GEO:34.057597;-118.383287
X-APPLE-STRUCTURED-LOCATION;VALUE=URI;X-ADDRESS=1054 S Robertson Blvd\, Los
  Angeles\, CA\, 90035\, United States;X-APPLE-RADIUS=100;X-TITLE=1054 S Ro
 bertson Blvd:geo:34.057597,-118.383287
END:VEVENT
BEGIN:VTIMEZONE
TZID:America/Los_Angeles
X-LIC-LOCATION:America/Los_Angeles
BEGIN:DAYLIGHT
DTSTART:20260308T030000
TZOFFSETFROM:-0800
TZOFFSETTO:-0700
TZNAME:PDT
END:DAYLIGHT
END:VTIMEZONE
END:VCALENDAR