BEGIN:VCALENDAR
VERSION:2.0
PRODID:-//wp-events-plugin.com//7.2.3.1//EN
TZID:America/Detroit
X-WR-TIMEZONE:America/Detroit
BEGIN:VEVENT
UID:31794@arabamerica.com
DTSTART;TZID=America/Detroit:20230907T180000
DTEND;TZID=America/Detroit:20231116T210000
DTSTAMP:20231018T031036Z
URL:https://www.arabamerica.com/events/1001-arabian-tales/
SUMMARY:1001 Arabian Tales
DESCRIPTION:\n\nClass Experience\n\n\nAge: 12-18 yrs old\n\nThe Tales of 10
 01 Arabian Nights have brought to life the magical\, unforgettable lessons
  to be learned from familiar characters like Ali Baba and the 40 Thieves o
 r Aladdin.  Less familiar stories like Hodja and the Cauldron\, or The Se
 a Genie\, are parables full of adventure and thoughtful\, enchanting image
 s.  Stories with genies and pranksters of all sizes and shapes have captu
 red imaginations the world over.  Students will help choose\, create and 
 bring to life some of these timeless tales.\n\nClasses: Thursday\, 6:00-9:
 00 pm\n\nRegular Rehearsals: Sep 7 - Nov 2\n\nTech Rehearsals: Nov 4\, 6-9
 \n\nPerformances: Nov 10\, 11\, 17 &amp\; 18 @ 7:00 pm\, Nov 18 @ 2:00pm\n
 \n&nbsp\;\n\n\n\n\n\n\n\n\n\n
ATTACH;FMTTYPE=image/jpeg:https://www.arabamerica.com/wp-content/uploads/2
 023/10/1001-Arabian-Tales-Thumbnail.webp
CATEGORIES:Arab,Arab Art,Arab Culture,Arab Heritage,Arab Identity,Arab
 Theatre,Arabia,Arabian adventure,Arabian Night,Arabian Nights
LOCATION:ACTS Theater\, 11455 W Interstate 70 Frontage Rd N\, Wheat Ridge\,
  CO\, 80033\, United States
GEO:39.78452;-105.12769
X-APPLE-STRUCTURED-LOCATION;VALUE=URI;X-ADDRESS=11455 W Interstate 70 Front
 age Rd N\, Wheat Ridge\, CO\, 80033\, United States;X-APPLE-RADIUS=100;X-T
 ITLE=ACTS Theater:geo:39.78452,-105.12769
END:VEVENT
BEGIN:VTIMEZONE
TZID:America/Detroit
X-LIC-LOCATION:America/Detroit
BEGIN:DAYLIGHT
DTSTART:20230312T030000
TZOFFSETFROM:-0500
TZOFFSETTO:-0400
TZNAME:EDT
END:DAYLIGHT
BEGIN:STANDARD
DTSTART:20231105T010000
TZOFFSETFROM:-0400
TZOFFSETTO:-0500
TZNAME:EST
END:STANDARD
END:VTIMEZONE
END:VCALENDAR