BEGIN:VCALENDAR
VERSION:2.0
PRODID:-//wp-events-plugin.com//7.2.3.1//EN
TZID:America/Detroit
X-WR-TIMEZONE:America/Detroit
BEGIN:VEVENT
UID:33539@arabamerica.com
DTSTART;TZID=America/Detroit:20240922T000000
DTEND;TZID=America/Detroit:20240924T000000
DTSTAMP:20240917T200029Z
URL:https://www.arabamerica.com/events/10th-annual-palestine-advocacy-days
 /
SUMMARY:10th Annual Palestine Advocacy Days
DESCRIPTION:FALLS CHURCH\, VA\nWhat is PAD?\nSince 2015\, American Muslims 
 for Palestine (AMP) has organized an annual Palestine Advocacy Day and Tra
 ining weekend to educate students\, community activists\, and organizers -
  young and old - on civic engagement and policy work exclusively on the is
 sue of Palestine.\n\nAs of 2021\, Palestine Advocacy Day was handed off to
  Americans for Justice in Palestine Action (AJP Action)\, AMP's 501(c)(4)
  affiliate organization. This year\, we're excited to announce Palesti
 ne Advocacy Day 2024 (PAD) from Sunday\, September 22nd to Tuesday\, Sep
 tember 24th\, 2024 in Washington\, DC.
ATTACH;FMTTYPE=image/jpeg:https://www.arabamerica.com/wp-content/uploads/2
 024/09/Screen-Shot-2024-09-17-at-22.00.15.png
LOCATION:Americans for Justice in Palestine\, 6404 Seven Corners Place Ste 
 N\, Falls Church\, VA\, 22044\, United States
GEO:38.870879;-77.158318
X-APPLE-STRUCTURED-LOCATION;VALUE=URI;X-ADDRESS=6404 Seven Corners Place St
 e N\, Falls Church\, VA\, 22044\, United States;X-APPLE-RADIUS=100;X-TITLE
 =Americans for Justice in Palestine:geo:38.870879,-77.158318
END:VEVENT
BEGIN:VTIMEZONE
TZID:America/Detroit
X-LIC-LOCATION:America/Detroit
BEGIN:DAYLIGHT
DTSTART:20240310T030000
TZOFFSETFROM:-0500
TZOFFSETTO:-0400
TZNAME:EDT
END:DAYLIGHT
END:VTIMEZONE
END:VCALENDAR