BEGIN:VCALENDAR
VERSION:2.0
PRODID:-//wp-events-plugin.com//7.2.3.1//EN
TZID:America/Detroit
X-WR-TIMEZONE:America/Detroit
BEGIN:VEVENT
UID:31385@arabamerica.com
DTSTART;TZID=America/Detroit:20230720T140000
DTEND;TZID=America/Detroit:20230720T160000
DTSTAMP:20230712T012130Z
URL:https://www.arabamerica.com/events/113th-capitol-hill-conference-econo
 mic-security-conditions-in-lebanon/
SUMMARY:113th Capitol Hill Conference: Economic & Security Conditions in Le
 banon
DESCRIPTION:WASHINGTON\, DC\n\n&nbsp\;\n\nEvent speakers include:\n\nThe Ho
 norable David Hale\, Global Fellow\, Wilson Center\; Former Under Secretar
 y for Political Affairs\, Department of State\; Former Ambassador\, Pakist
 an\, Lebanon\, and Jordan\n\nThe Honorable Edward M. Gabriel\, President a
 nd CEO\, American Task Force on Lebanon\; Former Ambassador\, Morocco\n\nD
 r. Matthew Levitt\, Director\, Jeanette and Eli Reinhard Program on Counte
 rterrorism and Intelligence\, The Washington Institute for Near East Polic
 y\n\nRefreshments will be served.
ATTACH;FMTTYPE=image/jpeg:https://www.arabamerica.com/wp-content/uploads/2
 023/07/Screen-Shot-2023-07-11-at-21.20.44.png
LOCATION:Cannon House Office Building\, 27 Independence Avenue Southeast \,
  Washington\, DC\, 20003\, United States
GEO:38.886923;-77.007416
X-APPLE-STRUCTURED-LOCATION;VALUE=URI;X-ADDRESS=27 Independence Avenue Sout
 heast \, Washington\, DC\, 20003\, United States;X-APPLE-RADIUS=100;X-TITL
 E=Cannon House Office Building:geo:38.886923,-77.007416
END:VEVENT
BEGIN:VTIMEZONE
TZID:America/Detroit
X-LIC-LOCATION:America/Detroit
BEGIN:DAYLIGHT
DTSTART:20230312T030000
TZOFFSETFROM:-0500
TZOFFSETTO:-0400
TZNAME:EDT
END:DAYLIGHT
END:VTIMEZONE
END:VCALENDAR