BEGIN:VCALENDAR
VERSION:2.0
PRODID:-//wp-events-plugin.com//7.2.3.1//EN
TZID:America/Detroit
X-WR-TIMEZONE:America/Detroit
BEGIN:VEVENT
UID:34467@arabamerica.com
DTSTART;TZID=America/Detroit:20250628T120000
DTEND;TZID=America/Detroit:20250628T210000
DTSTAMP:20250527T154716Z
URL:https://www.arabamerica.com/events/11th-annual-lebanese-food-music-fes
 tival/
SUMMARY:11th Annual Lebanese Food & Music Festival
DESCRIPTION:CLEVELAND\, OH\n\n&nbsp\;\n\n\nJoin us for a mouthwatering feas
 t of Lebanese cuisine and a vibrant celebration of music at The Lebanese F
 ood &amp\; Music Festival!\n\n\n\n\n\n\n\n\n\nThe Lebanese Food &amp\; Mus
 ic Festival\n\nDate: [June 28th \,2025] [June 29th \,2025]\n\nTime: [12:
 00PM - 9:00PM][12:00PM - 7:00PM]\n\nLocation: 2300 West Ridgewood Drive\,
  Cleveland\, OH\, USA (St. Sava Picnic Grove )\n\nGet ready for a mouthwat
 ering celebration of Lebanese culture at the Lebanese Food &amp\; Music Fe
 stival! Indulge in the flavors of Lebanon as you savor traditional dishes 
 that will transport your taste buds to the Middle East. But it's not just 
 about the food! Immerse yourself in the lively beats of Lebanese music\, w
 ith live performances by talented musicians that will have you dancing all
  night long. So mark your calendars and join us at 2300 West Ridgewood Dri
 ve\, Cleveland\, OH\, USA for a night of delicious food and unforgettable 
 entertainment at the Lebanese Food &amp\; Music Festival!\n\n&#x1f39f\;&#x
 fe0f\;FREE Admission &amp\; Parking\n\n&#x1f1f1\;&#x1f1e7\;Authentic Leban
 ese Food &amp\; Drinks\n\n&#x1f3a8\;Kids Games &amp\; Activities\n\n&#x1f3
 a4\;Live Entertainment\n\n&#x1f3e5\; Proceeds to benefit St. Judes Childre
 n Hospital\n\n\n\n\n\n
ATTACH;FMTTYPE=image/jpeg:https://www.arabamerica.com/wp-content/uploads/2
 025/05/lebanese_food-and-music_festival.png
LOCATION:St. Sava Picnic Grove\, 2300 West Ridgewood Drive\, Cleveland\, OH
 \, United States
GEO:41.392239;-81.686874
X-APPLE-STRUCTURED-LOCATION;VALUE=URI;X-ADDRESS=2300 West Ridgewood Drive\,
  Cleveland\, OH\, United States;X-APPLE-RADIUS=100;X-TITLE=St. Sava Picnic
  Grove:geo:41.392239,-81.686874
END:VEVENT
BEGIN:VTIMEZONE
TZID:America/Detroit
X-LIC-LOCATION:America/Detroit
BEGIN:DAYLIGHT
DTSTART:20250309T030000
TZOFFSETFROM:-0500
TZOFFSETTO:-0400
TZNAME:EDT
END:DAYLIGHT
END:VTIMEZONE
END:VCALENDAR