BEGIN:VCALENDAR
VERSION:2.0
PRODID:-//wp-events-plugin.com//7.2.3.1//EN
TZID:America/Detroit
X-WR-TIMEZONE:America/Detroit
BEGIN:VEVENT
UID:35034@arabamerica.com
DTSTART;TZID=America/Detroit;VALUE=DATE:20250926
DTEND;TZID=America/Detroit;VALUE=DATE:20250928
DTSTAMP:20250917T143519Z
URL:https://www.arabamerica.com/events/11th-international-palestinian-dias
 pora-conference/
SUMMARY:11th International Palestinian Diaspora Conference
DESCRIPTION:11th International Palestinian Diaspora Conference\, Falls Chur
 ch\, VA\nThe richness of Palestinian culture and heritage — from the bea
 uty of our traditional dresses to the intricate art of Tatreez (embroidery
 ) — is a living testimony of our resilience and determination. It remind
 s us to keep the struggle alive until we achieve freedom and a sovereign s
 tate.\n\nWe\, the Palestinian people\, are steadfast and active on all fro
 nts to keep our movement strong.\nJoin us at the Award Banquet for a speci
 al Palestinian Fashion Show\, honoring Mahdi Hasan and others. Reconnect w
 ith old friends\, meet new ones\, and stand together in solidarity with Pa
 lestine.\n\nBuy your ticket now and be part of this unforgettable evening!
 \n\nAward Banquet Tickets:\n\nhttp://www.kthps.org/award\n\nRegister now: 
 \n\nhttps://www.kthps.org/reg\n\nConference details: \n\nhttps://www.kthps
 .org/conf11\n\nRegister Now: \n\nhttps://www.kthps.org/reg\n\nDonate Now: 
 \n\nhttps://www.kthps.org/conf11don\n\nProgram: \n\nhttps://www.kthps.org/
 program\n\n&nbsp\;\n\n&nbsp\;\n\n&nbsp\;
ATTACH;FMTTYPE=image/jpeg:https://www.arabamerica.com/wp-content/uploads/2
 025/08/PHOTO-2025-08-21-18-39-54.jpg
LOCATION:Fairview Park Marriott\, 3111 Fairview Park Drive\, Falls Church\,
  VA\, United States
GEO:38.8608754;-77.2161064
X-APPLE-STRUCTURED-LOCATION;VALUE=URI;X-ADDRESS=3111 Fairview Park Drive\, 
 Falls Church\, VA\, United States;X-APPLE-RADIUS=100;X-TITLE=Fairview Park
  Marriott:geo:38.8608754,-77.2161064
END:VEVENT
BEGIN:VTIMEZONE
TZID:America/Detroit
X-LIC-LOCATION:America/Detroit
BEGIN:DAYLIGHT
DTSTART:20250309T030000
TZOFFSETFROM:-0500
TZOFFSETTO:-0400
TZNAME:EDT
END:DAYLIGHT
END:VTIMEZONE
END:VCALENDAR