BEGIN:VCALENDAR
VERSION:2.0
PRODID:-//wp-events-plugin.com//7.2.3.1//EN
TZID:America/Detroit
X-WR-TIMEZONE:America/Detroit
BEGIN:VEVENT
UID:33360@arabamerica.com
DTSTART;TZID=America/Detroit:20240901T130000
DTEND;TZID=America/Detroit:20240901T190000
DTSTAMP:20240816T113306Z
URL:https://www.arabamerica.com/events/12th-annual-arab-mahrajan-festival-
 oregon/
SUMMARY:12th Annual Arab Mahrajan Festival [Oregon]
DESCRIPTION:PORTLAND\, OR\n12th Annual Arab Mahrajan Festival [Oregon]\n\nS
 eptember 1 @ 1:00 pm - 7:00 pm PDT\n\n\n\n\n\nARAB FESTIVAL\n\nJoin us 
 Sunday\, September 1st\, 2024 at Oaks Park!\ndelicious cuisine\, bazaar\, 
 music\, dance\, poetry\nclothing\, crafts\, children’s activities\, henn
 a\nFREE ADMISSION | OPEN TO THE PUBLIC\nopen 1pm to 7pm\n\nInterested in v
 olunteering at our event? Fill out our volunteer sign-up form!\n\nInteres
 ted in being a vendor? Please contact us at events@aacco.org!\n\n\n
ATTACH;FMTTYPE=image/jpeg:https://www.arabamerica.com/wp-content/uploads/2
 024/08/Screenshot-2024-08-16-042603.png
LOCATION:The Oaks Amusement Park\, 7805 SE Oaks Park Way\, Portland\, Orego
 n\, 97202\, United States
GEO:45.4718801;-122.6616204
X-APPLE-STRUCTURED-LOCATION;VALUE=URI;X-ADDRESS=7805 SE Oaks Park Way\, Por
 tland\, Oregon\, 97202\, United States;X-APPLE-RADIUS=100;X-TITLE=The Oaks
  Amusement Park:geo:45.4718801,-122.6616204
END:VEVENT
BEGIN:VTIMEZONE
TZID:America/Detroit
X-LIC-LOCATION:America/Detroit
BEGIN:DAYLIGHT
DTSTART:20240310T030000
TZOFFSETFROM:-0500
TZOFFSETTO:-0400
TZNAME:EDT
END:DAYLIGHT
END:VTIMEZONE
END:VCALENDAR