BEGIN:VCALENDAR
VERSION:2.0
PRODID:-//wp-events-plugin.com//7.2.3.1//EN
TZID:America/Detroit
X-WR-TIMEZONE:America/Detroit
BEGIN:VEVENT
UID:35165@arabamerica.com
DTSTART;TZID=America/Detroit:20251115T103000
DTEND;TZID=America/Detroit:20251115T213000
DTSTAMP:20250930T152811Z
URL:https://www.arabamerica.com/events/12th-annual-islamic-arts-festival-2
 025/
SUMMARY:12th Annual Islamic Arts Festival 2025
DESCRIPTION:The largest and oldest festival of Islamic Arts in the United S
 tates will take place November 15th and 16th at the University of Houston.
 \n\n\n\nThe largest and oldest festival of Islamic Arts in the United Stat
 es will take place November 15th and 16th at the University of Houston. Th
 e festival will feature artists from across the country.\n\nThe 2025 festi
 val is set to celebrate diverse forms of Islamic arts\, including calligra
 phy\, Ebru\, henna\, music\, paintings\, and woodwork. It will also featur
 e a captivating live Sufi music program and a stand-up Muslim comedy show.
  The event will also host a film festival\, a spoken word program\, an art
  workshop\, and an academic seminar.\n\nWith over 5\,000 pieces of art by 
 more than 50 artists on display\, visitors will have the opportunity to en
 joy\, appreciate\, and purchase art. They can also engage in interactive a
 rt sessions\, live art demonstrations\, children's art activities\, learn 
 about Islamic art and culture\, attend workshops\, and savor ethnic food.\
 n\nThe festival attracts people of all ages\, ethnicities\, and faiths for
  two days of fun\, festivity\, and learning. Get ready for a fun-filled fe
 stival!\n\nFor more information\, visit: https://islamicartssociety.org/12
 th-annual-islamic-arts-festival-2025/\n\n\n\n\n\n\n\nGet Tickets Here\n\n\
 n
ATTACH;FMTTYPE=image/jpeg:https://www.arabamerica.com/wp-content/uploads/2
 025/09/Screenshot-2025-09-30-at-11.23.02-AM.png
LOCATION:Student Center South\, 445 University Drive\, Houston\, Texas\, 77
 204\, United States
GEO:29.718603;-95.338095
X-APPLE-STRUCTURED-LOCATION;VALUE=URI;X-ADDRESS=445 University Drive\, Hous
 ton\, Texas\, 77204\, United States;X-APPLE-RADIUS=100;X-TITLE=Student Cen
 ter South:geo:29.718603,-95.338095
END:VEVENT
BEGIN:VTIMEZONE
TZID:America/Detroit
X-LIC-LOCATION:America/Detroit
BEGIN:STANDARD
DTSTART:20251102T010000
TZOFFSETFROM:-0400
TZOFFSETTO:-0500
TZNAME:EST
END:STANDARD
END:VTIMEZONE
END:VCALENDAR