BEGIN:VCALENDAR
VERSION:2.0
PRODID:-//wp-events-plugin.com//7.2.3.1//EN
TZID:America/Detroit
X-WR-TIMEZONE:America/Detroit
BEGIN:VEVENT
UID:35768@arabamerica.com
DTSTART;TZID=America/Detroit:20260225T170000
DTEND;TZID=America/Detroit:20260225T200000
DTSTAMP:20260127T180513Z
URL:https://www.arabamerica.com/events/13th-annual-fastathon-muslim-studen
 ts-association/
SUMMARY:13th Annual Fastathon - Muslim Students' Association
DESCRIPTION:DEARBORN\, MI\n\nOverview\n\n\nThe MSA is partnering with Islam
 ic Relief USA for our annual fundraising campaign to support humanitarian 
 aid efforts in Sudan.\n\n13th Annual Fastathon – A Night of Community\, 
 Reflection\, and Giving\nThe Muslim Students’ Association at the Univers
 ity of Michigan–Dearborn is proud to invite you to our 13th Annual Fasta
 thon\, one of our most meaningful traditions\n\nREGISTER\n\n\n
ATTACH;FMTTYPE=image/jpeg:https://www.arabamerica.com/wp-content/uploads/2
 026/01/Screenshot-2026-01-27-at-12.42.19-PM.png
LOCATION:University of Michigan- Dearborn\, 4901 Evergreen Road\, Dearborn\
 , MI\, 48121\, United States
GEO:42.318409;-83.233202
X-APPLE-STRUCTURED-LOCATION;VALUE=URI;X-ADDRESS=4901 Evergreen Road\, Dearb
 orn\, MI\, 48121\, United States;X-APPLE-RADIUS=100;X-TITLE=University of 
 Michigan- Dearborn:geo:42.318409,-83.233202
END:VEVENT
BEGIN:VTIMEZONE
TZID:America/Detroit
X-LIC-LOCATION:America/Detroit
BEGIN:STANDARD
DTSTART:20251102T010000
TZOFFSETFROM:-0400
TZOFFSETTO:-0500
TZNAME:EST
END:STANDARD
END:VTIMEZONE
END:VCALENDAR