BEGIN:VCALENDAR
VERSION:2.0
PRODID:-//wp-events-plugin.com//7.2.3.1//EN
TZID:America/Detroit
X-WR-TIMEZONE:America/Detroit
BEGIN:VEVENT
UID:34912@arabamerica.com
DTSTART;TZID=America/North_Dakota/Center:20250831T130000
DTEND;TZID=America/North_Dakota/Center:20250831T190000
DTSTAMP:20250805T195147Z
URL:https://www.arabamerica.com/events/14th-annual-arab-mahrajan/
SUMMARY:14th Annual Arab "Mahrajan"
DESCRIPTION:\n\n\n\n\n\n\n\n\n 	Live Music &amp\; Dance Performances\n 	Art
 \, Crafts &amp\; Demos\n 	Traditional Food &amp\; Local Vendors\n 	Communi
 ty Resources &amp\; Info Booths\n\n\n\n\n\n\n\n\n\n\n\n\n\n\n\n
ATTACH;FMTTYPE=image/jpeg:https://www.arabamerica.com/wp-content/uploads/2
 025/08/Screenshot-2025-08-05-at-2.44.53-PM.png
LOCATION:Oaks Amusement Park & Roller Skating Rink\, 7805 SE Oaks Park Way\
 , Portland\, OR\, 97202\, United States
GEO:45.47371;-122.661899
X-APPLE-STRUCTURED-LOCATION;VALUE=URI;X-ADDRESS=7805 SE Oaks Park Way\, Por
 tland\, OR\, 97202\, United States;X-APPLE-RADIUS=100;X-TITLE=Oaks Amuseme
 nt Park & Roller Skating Rink:geo:45.47371,-122.661899
END:VEVENT
BEGIN:VTIMEZONE
TZID:America/North_Dakota/Center
X-LIC-LOCATION:America/North_Dakota/Center
BEGIN:DAYLIGHT
DTSTART:20250309T030000
TZOFFSETFROM:-0600
TZOFFSETTO:-0500
TZNAME:CDT
END:DAYLIGHT
END:VTIMEZONE
END:VCALENDAR