BEGIN:VCALENDAR
VERSION:2.0
PRODID:-//wp-events-plugin.com//7.2.3.1//EN
TZID:America/Detroit
X-WR-TIMEZONE:America/Detroit
BEGIN:VEVENT
UID:35759@arabamerica.com
DTSTART;TZID=America/Detroit:20260224T170000
DTEND;TZID=America/Detroit:20260224T193000
DTSTAMP:20260127T151547Z
URL:https://www.arabamerica.com/events/16th-annual-interfaith-iftar-dinner
 /
SUMMARY:16th Annual Interfaith Iftar Dinner
DESCRIPTION:\n\n\n\nLOUISVILLE\, KY\n\nJoin us for an unforgettable evening
  of unity and diversity at the Annual Interfaith Iftar Dinner!\n\n\n\n\nTh
 e 16th Annual Interfaith Iftar Dinner\nHolding Faith When Nothing Else Hol
 ds\n\nExperience the magic of unity as people from diverse faiths and cult
 ures come together to celebrate Iftar\, the daily breaking of the fast dur
 ing the holy month of Ramadan. Enjoy presentations by community leaders\, 
 followed by the breaking of the fast and a traditional Middle Eastern meal
  shared with friends and neighbors.\n\nThis in-person event promises to be
  a night of warmth\, connection\, and understanding. Don't miss this oppor
 tunity to foster interfaith dialogue and build bridges between communities
 . Come and be a part of something truly special!\n\nDoors open at 4:45 p.m
 .\nProgram starts at 5:15 p.m.\nBreaking of the Fast &amp\; Call to Prayer
  at 6:30 p.m. (Sundown)\nBuffet Dinner at 6:40 p.m.\n\nCatered by Jarfi's\
 n\nReservations required by February 21st for this free event\nFree park
 ing is available at Second Presbyterian Church\n\nDonations to help offset
  the cost of the dinner are greatly appreciated!\n\nTo make a DONATION\, p
 lease use this link: MAC PAYPAL\n\n\n\n\n\nRegister Here\n\n\n\n\n\n\n\n\
 n\n\n\n\n\n\n
ATTACH;FMTTYPE=image/jpeg:https://www.arabamerica.com/wp-content/uploads/2
 026/01/Screenshot-2026-01-27-at-10.17.25-AM.png
LOCATION:Second Presbyterian Church\, 3701 Old Brownsboro Rd\, Louisville\,
  KY\, United States
GEO:38.2664556;-85.66719719999998
X-APPLE-STRUCTURED-LOCATION;VALUE=URI;X-ADDRESS=3701 Old Brownsboro Rd\, Lo
 uisville\, KY\, United States;X-APPLE-RADIUS=100;X-TITLE=Second Presbyteri
 an Church:geo:38.2664556,-85.66719719999998
END:VEVENT
BEGIN:VTIMEZONE
TZID:America/Detroit
X-LIC-LOCATION:America/Detroit
BEGIN:STANDARD
DTSTART:20251102T010000
TZOFFSETFROM:-0400
TZOFFSETTO:-0500
TZNAME:EST
END:STANDARD
END:VTIMEZONE
END:VCALENDAR