BEGIN:VCALENDAR
VERSION:2.0
PRODID:-//wp-events-plugin.com//7.2.3.1//EN
TZID:America/Detroit
X-WR-TIMEZONE:America/Detroit
BEGIN:VEVENT
UID:34069@arabamerica.com
DTSTART;TZID=America/Detroit:20250412T190000
DTEND;TZID=America/Detroit:20250412T220000
DTSTAMP:20250217T211908Z
URL:https://www.arabamerica.com/events/16th-annual-miami-gala/
SUMMARY:16th Annual Miami Gala
DESCRIPTION:
ATTACH;FMTTYPE=image/jpeg:https://www.arabamerica.com/wp-content/uploads/2
 025/02/Screenshot-2025-02-17-at-3.22.46 PM.png
CATEGORIES:Arab,Arab
 American,Community,culture,Discussion,Food,Music/Folk/World
LOCATION:The Ritz Carlton Hotel\, Coconut Grove 3300 SW 27th Ave\, Miami\, 
 FL 33133\, 3300 SW 27th Ave\, Miami\, Florida\, 33133\, United States
GEO:25.7300973;-80.23796970000001
X-APPLE-STRUCTURED-LOCATION;VALUE=URI;X-ADDRESS=3300 SW 27th Ave\, Miami\, 
 Florida\, 33133\, United States;X-APPLE-RADIUS=100;X-TITLE=The Ritz Carlto
 n Hotel\, Coconut Grove 3300 SW 27th Ave\, Miami\, FL 33133:geo:25.7300973
 ,-80.23796970000001
END:VEVENT
BEGIN:VTIMEZONE
TZID:America/Detroit
X-LIC-LOCATION:America/Detroit
BEGIN:DAYLIGHT
DTSTART:20250309T030000
TZOFFSETFROM:-0500
TZOFFSETTO:-0400
TZNAME:EDT
END:DAYLIGHT
END:VTIMEZONE
END:VCALENDAR