BEGIN:VCALENDAR
VERSION:2.0
PRODID:-//wp-events-plugin.com//7.2.3.1//EN
TZID:America/Detroit
X-WR-TIMEZONE:America/Detroit
BEGIN:VEVENT
UID:35361@arabamerica.com
DTSTART;TZID=America/Detroit:20251106T173000
DTEND;TZID=America/Detroit:20251106T203000
DTSTAMP:20251104T165609Z
URL:https://www.arabamerica.com/events/17th-annual-signature-event/
SUMMARY:17th Annual Signature Event
DESCRIPTION:\nDEARBORN\, MI\n\nGet ready for the AAWBC 17th Annual Signatur
 e Event - a night of networking\, empowering\, and uplifting women in busi
 ness !\n\n\n\n\nJoin us at the AAWBC's 17th Annual Signature Event - a nig
 ht dedicated to celebrating\, empowering\, and uplifting women in business
  and leadership. This year’s event promises to be our most inspiring yet
 \, bringing together professionals\, entrepreneurs\, and community leaders
  for an unforgettable evening of connection and celebration.\n\nget ticket
 s here\n\n\n
ATTACH;FMTTYPE=image/jpeg:https://www.arabamerica.com/wp-content/uploads/2
 025/11/Screenshot-2025-11-04-at-11.42.29-AM.png
LOCATION:Byblos Banquet Center\, 7258 Chase Rd\, Dearborn\, MI\, 48126\, Un
 ited States
GEO:42.3446856;-83.18615699999998
X-APPLE-STRUCTURED-LOCATION;VALUE=URI;X-ADDRESS=7258 Chase Rd\, Dearborn\, 
 MI\, 48126\, United States;X-APPLE-RADIUS=100;X-TITLE=Byblos Banquet Cente
 r:geo:42.3446856,-83.18615699999998
END:VEVENT
BEGIN:VTIMEZONE
TZID:America/Detroit
X-LIC-LOCATION:America/Detroit
BEGIN:STANDARD
DTSTART:20251102T010000
TZOFFSETFROM:-0400
TZOFFSETTO:-0500
TZNAME:EST
END:STANDARD
END:VTIMEZONE
END:VCALENDAR