BEGIN:VCALENDAR
VERSION:2.0
PRODID:-//wp-events-plugin.com//7.2.3.1//EN
TZID:America/Detroit
X-WR-TIMEZONE:America/Detroit
BEGIN:VEVENT
UID:35598@arabamerica.com
DTSTART:20260327T200000Z
DTEND:20260330T073000Z
DTSTAMP:20251217T042755Z
URL:https://www.arabamerica.com/events/18th-annual-lcn-convention-2/
SUMMARY:18th Annual LCN Convention
DESCRIPTION:\n\n\n\nLOS ANGELES\, CA\nOverview\n\n\n\n\n\n\n\n\n\nJoin stud
 ents and alumni from University Lebanese Clubs across the US at our 18th A
 nnual LCN Convention!\n\n\n\n\nLCN Family\,\n\nWe are extremely proud to a
 nnounce that our 18th Annual Lebanese Collegiate Network (LCN) Convention
  will be hosted at the California State University\, Northridge from
  March 27 - 29\, 2026!\n\nWith 20+ University Lebanese Clubs currently su
 bscribed to the LCN\, regional divisions flourishing\, and LCN serving all
  of your universities for over a decade of academic and professional devel
 opment\, this convention promises to be the best one yet!\n\nThe Annual LC
 N Convention is our most anticipated event of the year\, fostering the gro
 wth and development of emerging leaders through a variety of workshops and
  events. These sessions cultivate skills for open dialogue\, problem-solvi
 ng\, and community engagement. Beyond skill-building\, the convention offe
 rs access to a lasting network of peers and professionals across the globe
 .\n\nJoin us in shaping an exceptional event where growth\, connection\, a
 nd development converge. Your presence fuels the convention's success\, an
 d we're excited to welcome you!\n\nRegister early! Prices will increase p
 eriodically as we get closer to the date and tickets are likely to sell ou
 t!\n\nThe Annual LCN convention is open to everyone! Share this informat
 ion with your peers\, friends\, and club members. We encourage you to invi
 te students\, alumni\, and professionals from across the nation!\n\nOn beh
 alf of the 2025-2026 LCN Executive Board\, we look forward to seeing you!\
 n\n\n
ATTACH;FMTTYPE=image/jpeg:https://www.arabamerica.com/wp-content/uploads/2
 025/12/Screenshot-2025-12-16-at-10.41.38-PM.png
CATEGORIES:lebanese
LOCATION:California State University\, Northridge\, 18111 Nordhoff Street\,
  Los Angeles\, CA\, 91330\, United States
GEO:34.240102;-118.529327
X-APPLE-STRUCTURED-LOCATION;VALUE=URI;X-ADDRESS=18111 Nordhoff Street\, Los
  Angeles\, CA\, 91330\, United States;X-APPLE-RADIUS=100;X-TITLE=Californi
 a State University\, Northridge:geo:34.240102,-118.529327
END:VEVENT
END:VCALENDAR