BEGIN:VCALENDAR
VERSION:2.0
PRODID:-//wp-events-plugin.com//7.2.3.1//EN
TZID:America/Detroit
X-WR-TIMEZONE:America/Detroit
BEGIN:VEVENT
UID:35187@arabamerica.com
DTSTART;TZID=America/Detroit:20251019T130000
DTEND;TZID=America/Detroit:20251019T220000
DTSTAMP:20251001T050152Z
URL:https://www.arabamerica.com/events/1st-annual-arab-culture-festival/
SUMMARY:1st Annual Arab Culture Festival
DESCRIPTION:SAINT PAUL\, MN\n\nWelcome to the 1st Annual Arab Culture Fest
 ival! Join us at The Saint Paul Event Center - 400 Wabasha St N unit 32
 0 for a day filled with celebration\, culture\, and community. Dive into 
 Arab traditions\, music\, and cuisine while connecting with fellow Arabs a
 nd friends from all over. This in-person event promises to be a memorable 
 gathering where you can embrace your roots and create lasting memories. Do
 n't miss out on this unique opportunity to celebrate our rich heritage tog
 ether!\n\n&nbsp\;
LOCATION:St. Paul Event Center\, 400 Wabasha Street North #320\, Saint Paul
 \, Minnesota \, 55102\, United States
GEO:44.946967;-93.095538
X-APPLE-STRUCTURED-LOCATION;VALUE=URI;X-ADDRESS=400 Wabasha Street North #3
 20\, Saint Paul\, Minnesota \, 55102\, United States;X-APPLE-RADIUS=100;X-
 TITLE=St. Paul Event Center:geo:44.946967,-93.095538
END:VEVENT
BEGIN:VTIMEZONE
TZID:America/Detroit
X-LIC-LOCATION:America/Detroit
BEGIN:DAYLIGHT
DTSTART:20250309T030000
TZOFFSETFROM:-0500
TZOFFSETTO:-0400
TZNAME:EDT
END:DAYLIGHT
END:VTIMEZONE
END:VCALENDAR