BEGIN:VCALENDAR
VERSION:2.0
PRODID:-//wp-events-plugin.com//7.2.3.1//EN
TZID:America/Detroit
X-WR-TIMEZONE:America/Detroit
BEGIN:VEVENT
UID:35993@arabamerica.com
DTSTART;TZID=America/New_York:20260326T190000
DTEND;TZID=America/New_York:20260326T220000
DTSTAMP:20260307T204219Z
URL:https://www.arabamerica.com/events/1st-annual-palestinian-film-festiva
 l-3/
SUMMARY:1st Annual Palestinian Film Festival
DESCRIPTION:Khalil's along with Jewish Voice for Peace and No Appetite for 
 Apartheid present the 1st Annual Palestinian Film Festival.  Three consec
 utive Thursdays (March 12\, March 19\, March 26) at 7PM on the 2nd Floor o
 f the Restaurant.  The Voice of Hind Rajab (3/12)\, All that's left of yo
 u (3/19)\, Gaza Doctors Under Attack (3/26).  Tickets can be bought throu
 gh Eventbrite using the link on the advertisment.\n\nhttps://www.khalilsre
 staurant.com/palestinian-film-festival
ATTACH;FMTTYPE=image/jpeg:https://www.arabamerica.com/wp-content/uploads/2
 026/03/Screenshot-2026-03-07-at-3.32.56-PM.png
CATEGORIES:Arab Film Festival
LOCATION:Khalil's Restaurant\, 4757 Baum Blvd.\, Pittsburgh\, PA\, 15213\, 
 United States
GEO:40.454468;-79.948146
X-APPLE-STRUCTURED-LOCATION;VALUE=URI;X-ADDRESS=4757 Baum Blvd.\, Pittsburg
 h\, PA\, 15213\, United States;X-APPLE-RADIUS=100;X-TITLE=Khalil's Restaur
 ant:geo:40.454468,-79.948146
END:VEVENT
BEGIN:VTIMEZONE
TZID:America/New_York
X-LIC-LOCATION:America/New_York
BEGIN:DAYLIGHT
DTSTART:20260308T030000
TZOFFSETFROM:-0500
TZOFFSETTO:-0400
TZNAME:EDT
END:DAYLIGHT
END:VTIMEZONE
END:VCALENDAR