BEGIN:VCALENDAR
VERSION:2.0
PRODID:-//wp-events-plugin.com//7.2.3.1//EN
TZID:America/Detroit
X-WR-TIMEZONE:America/Detroit
BEGIN:VEVENT
UID:31799@arabamerica.com
DTSTART;TZID=America/Detroit:20231019T170000
DTEND;TZID=America/Detroit:20231019T190000
DTSTAMP:20231018T030549Z
URL:https://www.arabamerica.com/events/2023-maama-research-forum-mobilizin
 g-arab-american-maternal-advocacy/
SUMMARY:2023 MAAMA Research Forum: Mobilizing Arab American Maternal Advoca
 cy
DESCRIPTION:The 2023 MAAMA Research Forum: Mobilizing Arab American Materna
 l Advocacy is the 1st Arab American maternal &amp\; child health conferenc
 e in the United States.\nJoin us on Thursday\, Oct 19th\, 5:00-7:00 pm EST
  at Sylvania Branch Library (6749 Monroe St\, Sylvania\, OH 43560)\, Comm
 unity Room A&amp\;B. We will be presenting on a 2-year project on Arab A
 merican maternal barriers as reported by both patients and providers\, as 
 well as hosting local organizations and leaders for tabling.\nRefreshment
 s and new parent gift bags will be provided on a first-come first-serve ba
 sis. Sponsored by the Arab Maternal Health in Ohio Study at The Computatio
 nal Epidemiology Lab in the College of Public Health\, Ohio State Universi
 ty (OSU)\, this event is open to all families\, providers\, researchers\, 
 public health professionals\, community members\, and allies! \nTo learn m
 ore about the research project\, please visit: https://u.osu.edu/hyder.22/
 arab-maternal-health-in-ohio-study/\nIf you have any questions about this 
 event\, please reach out to Siwaar Abouhala (Study Lead &amp\; Project Coo
 rdinator): abouhala.2@osu.edu
ATTACH;FMTTYPE=image/jpeg:https://www.arabamerica.com/wp-content/uploads/2
 023/10/Ohio-Research-Forum-2023-Poster-pdf.jpg
LOCATION:Sylvania Branch Library\, 6749 Monroe St\, Sylvania\, OH\, 43560\,
  United States
GEO:41.715092;-83.707044
X-APPLE-STRUCTURED-LOCATION;VALUE=URI;X-ADDRESS=6749 Monroe St\, Sylvania\,
  OH\, 43560\, United States;X-APPLE-RADIUS=100;X-TITLE=Sylvania Branch Lib
 rary:geo:41.715092,-83.707044
END:VEVENT
BEGIN:VTIMEZONE
TZID:America/Detroit
X-LIC-LOCATION:America/Detroit
BEGIN:DAYLIGHT
DTSTART:20230312T030000
TZOFFSETFROM:-0500
TZOFFSETTO:-0400
TZNAME:EDT
END:DAYLIGHT
END:VTIMEZONE
END:VCALENDAR