BEGIN:VCALENDAR
VERSION:2.0
PRODID:-//wp-events-plugin.com//7.2.3.1//EN
TZID:America/Detroit
X-WR-TIMEZONE:America/Detroit
BEGIN:VEVENT
UID:31535@arabamerica.com
DTSTART;TZID=America/Detroit:20231007T190000
DTEND;TZID=America/Detroit:20231007T190000
DTSTAMP:20230808T183330Z
URL:https://www.arabamerica.com/events/2023-sudan-education-foundation-din
 ner-and-auction/
SUMMARY:2023 Sudan Education Foundation Dinner and Auction
DESCRIPTION:\n\n\n\n\nY'all join us for the 2023 Sudan Education Foundation
  Benefit Dinner and Auction! We love that this night brings together teach
 ers\, administration\, alumni\, community members and donors that want to 
 support the Education Foundation's vision.\n\nThis year the dinner and auc
 tion will be held in Muleshoe\, Texas at The Desert Rose. The Desert Rose 
 is a beautifully rustic venue on the outside of town and we are excited ab
 out the new atmosphere.\n\nThe delicious steak dinner is cooked to perfect
 ion by our SEF board and is always a hit! It's the same steak dinner that 
 you've grown to love\, just in a new location! This year we will have a ch
 oice of tea\, water\, wine or beer with your dinner and an amazing desert 
 bar. The Dinner gives everyone a chance to enjoy some amazing food\, relax
  with others in a casual environment and listen to a great band.\n\nWe are
  very excited to announce our entertainment this year\, The Penni Lawrence
  Band! Penni Lawrence is a singer/songwriter from Kansas City\, MO. You ca
 n check out her music at https://www.youtube.com/@texassinger1/featured. S
 udan High School alumni\, Mike Hill\, is a bass player and singer with Pen
 ni when she's performing in West Texas and we are so excited to have him a
 nd the rest of the Penni Lawrence Band performing.\n\nFrom silent and live
  auctions to enjoying good company and a good band to the most amazing mea
 l\, this dinner will be a fantastic way to celebrate the SEF's mission of 
 inspiring innovation and supporting the Sudan ISD faculty and administrati
 on as they educate the next generation.\n\nIf you would like to purchase t
 ickets with a check or cash\, please contact Tara Provence at (806)773-793
 2 or tara@texasproducerscoop.com.\n\nAttendees must be 21 years of age or 
 older to purchase tickets.\n\n\n\n\n\n\n\n
ATTACH;FMTTYPE=image/jpeg:https://www.arabamerica.com/wp-content/uploads/2
 023/08/https___cdn.evbuc_.com_images_520096639_326248221513_1_original.jpg
CATEGORIES:Formal Night,Identity,Social Event,Society
LOCATION:The Desert Rose\, 1584 US Hwy\, 84 Muleshoe\, TX\, 79347\, United 
 States
GEO:34.249424;-102.767174
X-APPLE-STRUCTURED-LOCATION;VALUE=URI;X-ADDRESS=1584 US Hwy\, 84 Muleshoe\,
  TX\, 79347\, United States;X-APPLE-RADIUS=100;X-TITLE=The Desert Rose:geo
 :34.249424,-102.767174
END:VEVENT
BEGIN:VTIMEZONE
TZID:America/Detroit
X-LIC-LOCATION:America/Detroit
BEGIN:DAYLIGHT
DTSTART:20230312T030000
TZOFFSETFROM:-0500
TZOFFSETTO:-0400
TZNAME:EDT
END:DAYLIGHT
END:VTIMEZONE
END:VCALENDAR