BEGIN:VCALENDAR
VERSION:2.0
PRODID:-//wp-events-plugin.com//7.2.3.1//EN
TZID:America/Detroit
X-WR-TIMEZONE:America/Detroit
BEGIN:VEVENT
UID:32144@arabamerica.com
DTSTART;TZID=America/Detroit:20240307T083000
DTEND;TZID=America/Detroit:20240308T170000
DTSTAMP:20240131T202852Z
URL:https://www.arabamerica.com/events/2024-annual-american-coalition-for-
 syria-conference/
SUMMARY:2024 Annual American Coalition for Syria Conference
DESCRIPTION:Washington\, DC.  Annual American Coalition for Syria Conferen
 ce\n\n\nGet ready for the 2024 Annual ACS Conference\, our yearly advocacy
  and community gathering to organize for a free Syria.\n\n2024 Annual Amer
 ican Coalition for Syria Conference\n\nJoin us for the 2024 Annual America
 n Coalition for Syria Conference! This in-person event in Washington\, D.C
 . is a unique opportunity to connect with fellow Syrians\, Syrian American
 s\, and friends of Syria to commemorate the 13th Anniversary of the Syrian
  Revolution.\n\nOver two days\, community leaders\, experts\, and activist
 s will dive deep into discussions about the current situation in Syria and
  potential solutions.\n\nOn Thursday \, join us for a Capitol Hill advocac
 y day and reception.\n\nOn Friday \, join us for engaging panel discussion
 s\, interactive workshops\, and community-building. Our annual gala dinner
  will be held Friday night and promises to be both informative and inspiri
 ng.Don't miss this chance to make a difference and contribute to positive 
 change for the future of a free Syria. Register now and be part of this im
 portant gathering!\n\nImportant Note : Currently\, free registration for A
 dvocacy Day on Thursday\, March 7\, 2024 is open. Please check back closer
  to the date for paid tickets for the activities on Friday\, and the Frida
 y night Gala.\n\n
ATTACH;FMTTYPE=image/jpeg:https://www.arabamerica.com/wp-content/uploads/2
 024/01/https___cdn.evbuc_.com_images_657495959_264479161739_1_original.jpe
 g
CATEGORIES:Arab,Community,Discussion
LOCATION:1777 F Street NW\, 1777 F Street NW\, Washington\, DC\, 20006\, Un
 ited States
GEO:38.897565;-77.041205
X-APPLE-STRUCTURED-LOCATION;VALUE=URI;X-ADDRESS=1777 F Street NW\, Washingt
 on\, DC\, 20006\, United States;X-APPLE-RADIUS=100;X-TITLE=1777 F Street N
 W:geo:38.897565,-77.041205
END:VEVENT
BEGIN:VTIMEZONE
TZID:America/Detroit
X-LIC-LOCATION:America/Detroit
BEGIN:STANDARD
DTSTART:20231105T010000
TZOFFSETFROM:-0400
TZOFFSETTO:-0500
TZNAME:EST
END:STANDARD
END:VTIMEZONE
END:VCALENDAR