BEGIN:VCALENDAR
VERSION:2.0
PRODID:-//wp-events-plugin.com//7.2.3.1//EN
TZID:America/Detroit
X-WR-TIMEZONE:America/Detroit
BEGIN:VEVENT
UID:32381@arabamerica.com
DTSTART;TZID=America/Detroit:20240428T140000
DTEND;TZID=America/Detroit:20240428T160000
DTSTAMP:20240304T201504Z
URL:https://www.arabamerica.com/events/2024-halal-bbq-pitmasters-grill-for
 -gaza/
SUMMARY:2024 Halal BBQ Pitmasters "Grill for Gaza"
DESCRIPTION:TX. Join us for an unforgettable BBQ experience with a purpose!
  For a donation of $100 per person (with kids under 12 attending for free)
 \, you'll not only indulge in BBQ but also make a meaningful difference in
  the lives of orphans in Gaza\, as 100% of the proceeds go directly to the
 m.\n\nRegistration gives you access to the event starting at 2 PM (event e
 nds around 3:30 PM when the winners are announced).\n\nYou'll get to mingl
 e with BBQ teams\, sample world-class BBQ\, and participate in cooking dem
 onstrations. But that's not all! Muslim food journalist Farhan Mustafa wil
 l give his acclaimed 15 minute talk on "What is Halal BBQ?"\n\nIf you are 
 unable to to attend the 2024 “Grill for Gaza” BBQ Competition\, - or y
 ou just want to contribute more to this urgent cause - please use this pag
 e to make that donation.\n\nThank you so much for your support.
ATTACH;FMTTYPE=image/jpeg:https://www.arabamerica.com/wp-content/uploads/2
 024/03/https___cdn.evbuc_.com_images_708797569_132936172616_1_original.jpe
 g
CATEGORIES:Community,Food
LOCATION:Green Vine Market\, 1804 K Ave\, Plano \, TX \, United States
GEO:33.024385;-96.697816
X-APPLE-STRUCTURED-LOCATION;VALUE=URI;X-ADDRESS=1804 K Ave\, Plano \, TX \,
  United States;X-APPLE-RADIUS=100;X-TITLE=Green Vine Market:geo:33.024385,
 -96.697816
END:VEVENT
BEGIN:VTIMEZONE
TZID:America/Detroit
X-LIC-LOCATION:America/Detroit
BEGIN:DAYLIGHT
DTSTART:20240310T030000
TZOFFSETFROM:-0500
TZOFFSETTO:-0400
TZNAME:EDT
END:DAYLIGHT
END:VTIMEZONE
END:VCALENDAR