BEGIN:VCALENDAR
VERSION:2.0
PRODID:-//wp-events-plugin.com//7.2.3.1//EN
TZID:America/Detroit
X-WR-TIMEZONE:America/Detroit
BEGIN:VEVENT
UID:35469@arabamerica.com
DTSTART;TZID=America/Detroit;VALUE=DATE:20251125
DTEND;TZID=America/Detroit;VALUE=DATE:20251201
DTSTAMP:20251125T170402Z
URL:https://www.arabamerica.com/events/2025-aaaea-capital-area-scholarship
 -deadline-extended/
SUMMARY:2025 AAAEA-Capital Area Scholarship Deadline Extended
DESCRIPTION:Dear Members\,\nThe Arab American Association of Engineers and 
 Architects - Capital Area (AAAEA - Capital Area)\, has extended its 2025 S
 cholarship Program deadline to Sunday\, November 30th by 11:59 PM.\nThe s
 cholarship program is open to undergraduate or graduate students in the fi
 elds of engineering\, architecture\, or information technology\; with a pr
 eference given to undergraduate students. The objective is to promote engi
 neering\, architecture\, and information technology as worthy professions 
 and to foster stronger ties between the Association and the Arab American 
 Community.\nThe number and value of the scholarship(s) will be decided eve
 ry year based on the amount raised by the Education and Scholarship Commit
 tee of the AAAEA-Capital Area and will be presented at a function of the A
 ssociation. Each scholarship will be awarded this year at an amount up to 
 $1\,000. The names of the awardees will be announced at an upcoming AAAEA-
 Capital area event around the end of the year. The awardees will receive a
  certificate and a check.\n2025 SCHOLARSHIP ELIGIBILITY REQUIREMENTS:\n\n&
 nbsp\;\n·Must be a Student Member of AAAEA - Capital Area or a child of a
  current member of the association.\n·Must be an undergraduate or graduat
 e student currently studying in the field of engineering\, architecture or
  information technology at an accredited four-year College or University i
 n the Capital Area (D.C.\, Maryland\, Virginia).\n·Have a minimum cumulat
 ive grade point average\, GPA\, of 3.0 on a 4.0 scale.\n·Applicants must 
 complete the AAAEA Scholarship Award Application and submit all required d
 ocuments.\nSELECTION CRITERIA:\n\n&nbsp\;\n\n35% - Essay\n\n30% - Most Rec
 ent College Transcript (GPA)\n\n20% - Extracurricular Activities\n\n15% - 
 Letter of Recommendation\n\n&nbsp\;\nThe presentation quality criterion wi
 ll be an assessment of the applicant's submittal for neatness\, organizati
 on\, spelling and proper English usage.\n&nbsp\;\n\nAPPLICATION INSTRUCTIO
 NS:\n\n&nbsp\;\nApplicants must complete the AAAEA scholarship award app
 lication which consists of items 1 through 5 listed below and email it t
 o president@aaaea-capital.org by Novemeber 30th with the subject line: A
 ttention: Scholarship Program.\n1.     Complete the application.\n
 2.  Provide an official college transcript indicating course grades and 
 cumulative grade point average. (This is required from everyone except fre
 shmen who are required to submit their acceptance letter into a college of
  engineering program).\n3.     Provide a letter of recommendation wri
 tten by a faculty member (from the student's field of study).\n4.    
  Provide an adequate description of the applicant's extracurricular activ
 ities. The description should highlight relevant work experience\, publica
 tions\, participation in AAAEA\, student/campus activities\, involvement i
 n community organizations or a combination of these.\n5.    Provide an
  essay addressing the applicant's interest in his/her field of study\, the
  most important issue currently being addressed in the applicant's field\,
  and the responsibility of the Engineers\, Architects or Computer Scientis
 ts to society and to AAAEA.\nIf the Scholarship Committee deems it necessa
 ry\, a fifteen-minute phone interview may be scheduled with the applicants
 .\n&nbsp\;\n\n&nbsp\;\n\n&nbsp\;\nDeadline to Submit\nNovember 30th\, 2025
 \nSincerely\,\nAAAEA-Capital Area\n\nAPPLY HERE
ATTACH;FMTTYPE=image/jpeg:https://www.arabamerica.com/wp-content/uploads/2
 025/11/unnamed-1.jpg
END:VEVENT
BEGIN:VTIMEZONE
TZID:America/Detroit
X-LIC-LOCATION:America/Detroit
BEGIN:STANDARD
DTSTART:20251102T010000
TZOFFSETFROM:-0400
TZOFFSETTO:-0500
TZNAME:EST
END:STANDARD
END:VTIMEZONE
END:VCALENDAR