BEGIN:VCALENDAR
VERSION:2.0
PRODID:-//wp-events-plugin.com//7.2.3.1//EN
TZID:America/Detroit
X-WR-TIMEZONE:America/Detroit
BEGIN:VEVENT
UID:34374@arabamerica.com
DTSTART;TZID=America/Detroit:20250608T121500
DTEND;TZID=America/Detroit:20250608T180000
DTSTAMP:20250504T000258Z
URL:https://www.arabamerica.com/events/2025-aaaea-capital-area-summer-picn
 ic-and-networking-event/
SUMMARY:2025 AAAEA-Capital Area Summer Picnic and Networking Event
DESCRIPTION:BOYDS\, MD\nAAAEA-Capital Area is excited to invite you to our 
 Summer Picnic &amp\; Networking Event! This gathering is a great way to en
 joy the outdoors\, connect with fellow engineers and architects\, and expa
 nd your professional network in a relaxed\, social setting.\nWhether you'r
 e new to the area or a longtime member\, we welcome you to bring your coll
 eagues\, friends\, and family to enjoy the food and good company in the wa
 rm summer weather.\nThe details of the event\, as well as the link for reg
 istration can be found below.\nWe look forward to seeing you there!
ATTACH;FMTTYPE=image/jpeg:https://www.arabamerica.com/wp-content/uploads/2
 025/05/Screenshot-2025-05-03-at-7.58.43 PM.png
LOCATION:Black Hill Regional Park\, 20930 Lake Ridge Dr\, Shelter "A" Boyds
 \, MD\, 20841\, United States
GEO:39.203818;-77.285865
X-APPLE-STRUCTURED-LOCATION;VALUE=URI;X-ADDRESS=20930 Lake Ridge Dr\, Shelt
 er \"A\" Boyds\, MD\, 20841\, United States;X-APPLE-RADIUS=100;X-TITLE=Bla
 ck Hill Regional Park:geo:39.203818,-77.285865
END:VEVENT
BEGIN:VTIMEZONE
TZID:America/Detroit
X-LIC-LOCATION:America/Detroit
BEGIN:DAYLIGHT
DTSTART:20250309T030000
TZOFFSETFROM:-0500
TZOFFSETTO:-0400
TZNAME:EDT
END:DAYLIGHT
END:VTIMEZONE
END:VCALENDAR