BEGIN:VCALENDAR
VERSION:2.0
PRODID:-//wp-events-plugin.com//7.2.3.1//EN
TZID:America/Detroit
X-WR-TIMEZONE:America/Detroit
BEGIN:VEVENT
UID:35380@arabamerica.com
DTSTART;TZID=America/Detroit:20251113T180000
DTEND;TZID=America/Detroit:20251113T220000
DTSTAMP:20251106T155059Z
URL:https://www.arabamerica.com/events/2025-ameja-awards/
SUMMARY:2025 AMEJA Awards
DESCRIPTION:Join reporters\, editors\, producers\, photographers\, and frie
 nds for our biggest night of the year. We’ll announce the winners of the
  2025 AMEJA Awards\, hear from world-renowned MENA journalists\, and mark 
 AMEJA’s 20-year legacy.
ATTACH;FMTTYPE=image/jpeg:https://www.arabamerica.com/wp-content/uploads/2
 025/11/2025-AMEJA-AWARDS_banner-scaled.png
CATEGORIES:Awards,Awards Ceremony,Journalism,Journalist,New York events
LOCATION:Atolye Venue\, 236b 6th St\, Brooklyn\, NY\, 11215\, United States
GEO:40.672676;-73.988511
X-APPLE-STRUCTURED-LOCATION;VALUE=URI;X-ADDRESS=236b 6th St\, Brooklyn\, NY
 \, 11215\, United States;X-APPLE-RADIUS=100;X-TITLE=Atolye Venue:geo:40.67
 2676,-73.988511
END:VEVENT
BEGIN:VTIMEZONE
TZID:America/Detroit
X-LIC-LOCATION:America/Detroit
BEGIN:STANDARD
DTSTART:20251102T010000
TZOFFSETFROM:-0400
TZOFFSETTO:-0500
TZNAME:EST
END:STANDARD
END:VTIMEZONE
END:VCALENDAR