BEGIN:VCALENDAR
VERSION:2.0
PRODID:-//wp-events-plugin.com//7.2.3.1//EN
TZID:America/Detroit
X-WR-TIMEZONE:America/Detroit
BEGIN:VEVENT
UID:35191@arabamerica.com
DTSTART;TZID=America/Detroit:20251025T183000
DTEND;TZID=America/Detroit:20251025T183000
DTSTAMP:20251006T000031Z
URL:https://www.arabamerica.com/events/2025-annual-gala/
SUMMARY:2025 Annual Gala
DESCRIPTION:HOUSTON\, TX\n\n\n\n\n\n\n\n\n\n
ATTACH;FMTTYPE=image/jpeg:https://www.arabamerica.com/wp-content/uploads/2
 025/10/Screenshot-2025-10-06-at-1.49.51-AM.png
LOCATION:Omni Hotel Grand Ballroom\, 4 Riverway\, Houston\, TX\, 77056\, Un
 ited States
GEO:29.761011;-95.45927
X-APPLE-STRUCTURED-LOCATION;VALUE=URI;X-ADDRESS=4 Riverway\, Houston\, TX\,
  77056\, United States;X-APPLE-RADIUS=100;X-TITLE=Omni Hotel Grand Ballroo
 m:geo:29.761011,-95.45927
END:VEVENT
BEGIN:VTIMEZONE
TZID:America/Detroit
X-LIC-LOCATION:America/Detroit
BEGIN:DAYLIGHT
DTSTART:20250309T030000
TZOFFSETFROM:-0500
TZOFFSETTO:-0400
TZNAME:EDT
END:DAYLIGHT
END:VTIMEZONE
END:VCALENDAR