BEGIN:VCALENDAR
VERSION:2.0
PRODID:-//wp-events-plugin.com//7.2.3.1//EN
TZID:America/Detroit
X-WR-TIMEZONE:America/Detroit
BEGIN:VEVENT
UID:34170@arabamerica.com
DTSTART;TZID=America/Detroit:20250330T090000
DTEND;TZID=America/Detroit:20250330T130000
DTSTAMP:20250317T213007Z
URL:https://www.arabamerica.com/events/2025-eid-breakfast-at-new-horizon/
SUMMARY:2025 Eid Breakfast at New Horizon
DESCRIPTION:PASADENA\, CA\n\nJoin us for a heartwarming tradition that brin
 gs families together! Our Annual Eid Breakfast at New Horizon is a delight
 ful celebration of joy\, community\, and delicious food. This fun-filled e
 vent is the perfect way to start your Eid day with loved ones\, featuring 
 a scrumptious spread of breakfast favorites\, exciting activities for the 
 little ones\, and the warm\, welcoming atmosphere that makes Eid even more
  special.\n\nFOOD: Unlimited Arab &amp\; Pakistani breakfast\, freshly-mad
 e crepes\, gourmet coffee &amp\; tea\, delicious desserts\, fresh fruit &a
 mp\; snacks!\n\nACTIVITIES: Henna\, carnival rides\, carnival games\, face
 painting\, balloon animals\, bazaar with local vendors\, Peace Garden tour
 s &amp\; more!\n\nEarly Bird Prices: Available for a limited time only! Ti
 cket sales start on February 13th!\n\n$45 – Adults\n\n$35 – Children (
 ages 5-10 years old)\n\n*Limited tickets will be available at the door. Th
 is event usually sells out!
ATTACH;FMTTYPE=image/jpeg:https://www.arabamerica.com/wp-content/uploads/2
 025/03/Screenshot-2025-03-17-at-9.34.59 PM.png
LOCATION:New Horizon School Pasadena\, 651 North Orange Grove Boulevard \, 
 Pasadena\, CA\, 91103\, United States
GEO:34.155395;-118.156598
X-APPLE-STRUCTURED-LOCATION;VALUE=URI;X-ADDRESS=651 North Orange Grove Boul
 evard \, Pasadena\, CA\, 91103\, United States;X-APPLE-RADIUS=100;X-TITLE=
 New Horizon School Pasadena:geo:34.155395,-118.156598
END:VEVENT
BEGIN:VTIMEZONE
TZID:America/Detroit
X-LIC-LOCATION:America/Detroit
BEGIN:DAYLIGHT
DTSTART:20250309T030000
TZOFFSETFROM:-0500
TZOFFSETTO:-0400
TZNAME:EDT
END:DAYLIGHT
END:VTIMEZONE
END:VCALENDAR