BEGIN:VCALENDAR
VERSION:2.0
PRODID:-//wp-events-plugin.com//7.2.3.1//EN
TZID:America/Detroit
X-WR-TIMEZONE:America/Detroit
BEGIN:VEVENT
UID:35184@arabamerica.com
DTSTART;TZID=America/Detroit:20251123T180000
DTEND;TZID=America/Detroit:20251123T213000
DTSTAMP:20251001T044523Z
URL:https://www.arabamerica.com/events/2025-national-coptic-charity-banque
 t/
SUMMARY:2025 National Coptic Charity Banquet
DESCRIPTION:OAK BROOK\, IL\nThe National Coptic Charity Banquet\nCelebratin
 g the First International Scholarship for Exceptional Young Copts!\n\nYou 
 are cordially invited to an evening of inspiration\, camaraderie\, and cel
 ebration at our Inaugural Banquet Dinner\, where we hope to frame our Miss
 ion\, articulate the motivation behind the intricate balance between the h
 opeful and the probable in fulfilling our Vision\, and recognize the new c
 lasses of American and Egyptian Coptic Scholars\, forming a global network
  of talented young minds\, dedicated to culturally and intellectually brid
 ging the East with the West.\n\nThe black tie dinner will take place at
  Maggiano’s Little Italy on Sunday\, November 23 at 6:30 PM\, with a Ke
 ynote Speech from HG Bishop Kyrillos\, Dean\, ACTS\n\nThe agenda for the n
 ight is shown below:\n\n 	Reception and Opening Remarks\n 	Dinner Service\
 n 	N.C.C. Mission and Vision Presentation\n 	VOF Essay Presentation\n 	Rec
 ognizing the Inaugural Class of American Coptic Scholars\n 	Recognizing th
 e 2025 Egyptian Coptic Scholars\n 	Keynote Speech From HG Bishop Kyrillos\
 n 	Closing Remarks and Farewell\n
ATTACH;FMTTYPE=image/jpeg:https://www.arabamerica.com/wp-content/uploads/2
 025/10/Screen-Shot-2025-10-01-at-12.44.35-AM.png
LOCATION:Maggiano's Little Italy\, 240 Oakbrook Center Oak Brook\, Oak Broo
 k\, Illinois\, 60523\, United States
GEO:41.849705;-87.951171
X-APPLE-STRUCTURED-LOCATION;VALUE=URI;X-ADDRESS=240 Oakbrook Center Oak Bro
 ok\, Oak Brook\, Illinois\, 60523\, United States;X-APPLE-RADIUS=100;X-TIT
 LE=Maggiano's Little Italy:geo:41.849705,-87.951171
END:VEVENT
BEGIN:VTIMEZONE
TZID:America/Detroit
X-LIC-LOCATION:America/Detroit
BEGIN:STANDARD
DTSTART:20251102T010000
TZOFFSETFROM:-0400
TZOFFSETTO:-0500
TZNAME:EST
END:STANDARD
END:VTIMEZONE
END:VCALENDAR