BEGIN:VCALENDAR
VERSION:2.0
PRODID:-//wp-events-plugin.com//7.2.3.1//EN
TZID:America/Detroit
X-WR-TIMEZONE:America/Detroit
BEGIN:VEVENT
UID:32921@arabamerica.com
DTSTART;TZID=America/Detroit:20240608T193000
DTEND;TZID=America/Detroit:20240608T210000
DTSTAMP:20240529T150655Z
URL:https://www.arabamerica.com/events/20th-anniversary-arab-american-come
 dy-festival-at-the-kennedy-center/
SUMMARY:20th Anniversary Arab American Comedy Festival at the Kennedy Cente
 r
DESCRIPTION:WASHINGTON\, DC\nOver 165\,000 Arab Americans call the D.C. are
 a home. The 20th Anniversary Arab American Comedy Festival is culminati
 ng a 10 month tour at the Kennedy Center on June 8th.\nThe Festival has 
 been celebrated by The New York Times\, Vanity Fair\, NPR and Boston 
 Globe. Co-Founders Dean &amp\; Maysoon are great interviews - pros at di
 scussing current events\, pop culture and politics as well as comedy. They
  bring insight\, empathy and understanding to every conversation.\nThe fes
 tival was founded in the wake of Arab American discrimination after 9/11. 
 Over the past 20 years the much heralded annual festival has made incredib
 le strides in combating bigotry and negative media portrayals of Arab Amer
 icans (including Muslims\, Christians\, Jews\, Buddhists and non-religious
  Arabs in its roster) over two decades\, while showcasing the top talent a
 nd fostering connections with industry professionals. The universality of
  comedy with this festival's headliners has proven appeal across the count
 ry - festival alum Tony Shalhoub and Ramy Youssef recently returned to 
 headline the NY show.\n&nbsp\;\nOur D.C. show will star seven headliners w
 ho have performed in past festivals:\nCo-Founders -\nMaysoon Zayid (recor
 d setting TED Talk “I’ve got 99 Problems… Palsy is Just One\,” reg
 ular on CNN\, MSNBC\, OWN and General Hospital)\nDean Obeidallah (MSNBC\,
  CNN\, The Dean Obeidallah Show” on SiriusXM radio\, Comedy Central’s 
 “Axis of Evil\,” award-winning doc “The Muslims are Coming!”)\n+\n
 Returning Headliners -\nRola ZZZ (DC Improv\, Gotham Comedy Club\, Traume
 dy\, Dubai TV) -  DC local!\nMohanad Elshieky (Comedy Central\, Conan\,
  Lemonade’s “I'm Sorry” podcast\, Full Frontal with Samantha Bee)\nM
 ajdy Fares (three-time Moth Grandslam champion\, 1001 Nights Comedy Festi
 val)\nLaura Laham (Best of the Fest in 2022’s Burbank Comedy Festival)\
 nGo Remy (100 million views on YouTube\, “Brown Nation” sitcom\, Come
 dy Central Records)\n\nFunding for New York Arab-American Comedy Festival
 ’s anniversary tour is provided by the Doris Duke Foundation.
ATTACH;FMTTYPE=image/jpeg:https://www.arabamerica.com/wp-content/uploads/2
 024/05/temp-46.jpg
LOCATION:The Kennedy Center\, 2700 F St NW\, Washington DC\, Washington DC\
 , United States
GEO:38.8961514;-77.05544680000003
X-APPLE-STRUCTURED-LOCATION;VALUE=URI;X-ADDRESS=2700 F St NW\, Washington D
 C\, Washington DC\, United States;X-APPLE-RADIUS=100;X-TITLE=The Kennedy C
 enter:geo:38.8961514,-77.05544680000003
END:VEVENT
BEGIN:VTIMEZONE
TZID:America/Detroit
X-LIC-LOCATION:America/Detroit
BEGIN:DAYLIGHT
DTSTART:20240310T030000
TZOFFSETFROM:-0500
TZOFFSETTO:-0400
TZNAME:EDT
END:DAYLIGHT
END:VTIMEZONE
END:VCALENDAR