BEGIN:VCALENDAR
VERSION:2.0
PRODID:-//wp-events-plugin.com//7.2.3.1//EN
TZID:America/Detroit
X-WR-TIMEZONE:America/Detroit
BEGIN:VEVENT
UID:33561@arabamerica.com
DTSTART;TZID=America/Detroit:20240926T190000
DTEND;TZID=America/Detroit:20240926T223300
DTSTAMP:20240923T182124Z
URL:https://www.arabamerica.com/events/255408/
SUMMARY:Special Screenings: Films from SAUDI ARABIA & EGYPT
DESCRIPTION:Allentown\, PA\n\nDouble Feature Film Screening:\n\n“In Searc
 h of Oil and Sand” (2012) dir. Wael Omar &amp\; Philippe Dib\, 59 mins\,
  Egypt\n\nTracks the Egyptian historian Mahmoud Sabit who inherited a pal
 ace that dates back to the royal family\, as he unveils the story behind '
 Oil and Sand'\, an 8 mm film shot by his parents and members of the royal 
 court only a few weeks before the royal Egyptian family was overthrown in 
 a coup d'état in 1952. Arabic\, English and French with Eng. subs.\n\nSh
 ort intermission\n\nFilms By Fahmi:\n\n"Guys Who Knew Too Little About And
 orra” (2022) dir. Fahmi Farahat\, 25 mins.\, Kingdom of Saudi Arabia\n\
 nNawaf and Sultan\, two gullible Saudi guys who stumble in a country they 
 know nothing of. Arabic with English subtitles.\n\n“Rules of the Game
 ” (2018) dir. Fahmi Farahat\, 22 mins.\, Kingdom of Saudi Arabia\n\nAn 
 arranged marriage puts Sami and Laila in the same bedroom\, exposing their
  deepest secrets. Arabic with Eng. subs.\n\n“Saudis In America” (2008
 ) dir. Fahmi Farahat\, 60 mins.\, documentary Kingdom of Saudi Arabia\n\n
 Since that tragic day\, Saudis living in America came under scrutiny as ma
 ny Americans wondered about Saudis\; who are they\; what are they doing in
  the US\; why do they hate us\; do they support Osama Bin Laden\; how do t
 hey feel about 9/11\; and most importantly why do they oppress their women
 ? Saudi filmmaker Fahmi Farahat takes his camera and invites us into his o
 wn life in an attempt to answer these questions. He captures the views and
  attitudes of his family and friends\, who are either living or visiting t
 he US\, through which he explores the many issues that surround Saudis in 
 America.\n\nPost screening discussion with filmmakers tuning in virtually
  for a Q&amp\;A.\n\nFor more information about the 33 and Me Filmmakers Fe
 stival\, visit www.33andMeFilms.com\n\n&nbsp\;\n\n\n\n\n\n\n\nThursday\, S
 eptember 26 · 7 - 10:33pm EDT\n\n\n\n\n\n\n\n\n\n\n\n\n\n\n\n
ATTACH;FMTTYPE=image/jpeg:https://www.arabamerica.com/wp-content/uploads/2
 024/09/https___cdn.evbuc_.com_images_835842009_446707181776_1_original.jpe
 g
LOCATION:Civic Theatre of Allentown\, 527 North 19th Street \, Allentown\, 
 PA\, 18104\, United States
GEO:40.603262;-75.499715
X-APPLE-STRUCTURED-LOCATION;VALUE=URI;X-ADDRESS=527 North 19th Street \, Al
 lentown\, PA\, 18104\, United States;X-APPLE-RADIUS=100;X-TITLE=Civic Thea
 tre of Allentown:geo:40.603262,-75.499715
END:VEVENT
BEGIN:VTIMEZONE
TZID:America/Detroit
X-LIC-LOCATION:America/Detroit
BEGIN:DAYLIGHT
DTSTART:20240310T030000
TZOFFSETFROM:-0500
TZOFFSETTO:-0400
TZNAME:EDT
END:DAYLIGHT
END:VTIMEZONE
END:VCALENDAR