BEGIN:VCALENDAR
VERSION:2.0
PRODID:-//wp-events-plugin.com//7.2.3.1//EN
TZID:America/Detroit
X-WR-TIMEZONE:America/Detroit
BEGIN:VEVENT
UID:35198@arabamerica.com
DTSTART;TZID=America/Detroit:20251010T180000
DTEND;TZID=America/Detroit:20251012T180000
DTSTAMP:20251006T210606Z
URL:https://www.arabamerica.com/events/269546/
SUMMARY:NAAMA 47th National Convention\, Washington DC
DESCRIPTION:&nbsp\;\n\n\n\nNAAMA 47th National Medical Convention - Washing
 ton DC\n\n\n\nJoin NAAMA 47th National Medical Convention! \n\nConnect wi
 th your peers and experience the ultimate medical gathering\, featuring:\n
 \n 	Cutting-edge scientific program\n 	Exciting social events\, including
 :\n\n- Welcome Reception on Oct 10\n\n- Gala Night on Oct 11\n\n- Foundati
 on Night on Oct 12\n\n- Exclusive Tours on October 11 &amp\;12\n\nBy regis
 tering\, you'll gain valuable insights\, forge meaningful connections\, an
 d contribute to our mission of creating a brighter\, more compassionate wo
 rld. Your participation will make a real difference!\n\nLet's come togethe
 r to shape the future of healthcare!\n\nNote: Link to special hotel rates 
 will be included in your registration receipt.\n\n\n\n\n\nJoin NAAMA 47th 
 National Medical Convention! \n\nConnect with your peers and experience t
 he ultimate medical gathering\, featuring:\n\n 	Cutting-edge scientific pr
 ogram\n 	Exciting social events\, including:\n\n- Welcome Reception on Oc
 t 10\n\n- Gala Night on Oct 11\n\n- Foundation Night on Oct 12\n\n- Exclus
 ive Tours on October 11 &amp\;12\n\nBy registering\, you'll gain valuable 
 insights\, forge meaningful connections\, and contribute to our mission of
  creating a brighter\, more compassionate world. Your participation will m
 ake a real difference!\n\nLet's come together to shape the future of healt
 hcare!\n\nNote: Link to special hotel rates will be included in your regis
 tration receipt.\n\n\n\n
ATTACH;FMTTYPE=image/jpeg:https://www.arabamerica.com/wp-content/uploads/2
 025/10/Screenshot-2025-10-06-at-5.04.26-PM.png
LOCATION:Park Hyatt Hotel\, 1201 24th Street Northwest \, Washington\, DC\,
  United States
GEO:38.90596770000001;-77.05135419999999
X-APPLE-STRUCTURED-LOCATION;VALUE=URI;X-ADDRESS=1201 24th Street Northwest 
 \, Washington\, DC\, United States;X-APPLE-RADIUS=100;X-TITLE=Park Hyatt H
 otel:geo:38.90596770000001,-77.05135419999999
END:VEVENT
BEGIN:VTIMEZONE
TZID:America/Detroit
X-LIC-LOCATION:America/Detroit
BEGIN:DAYLIGHT
DTSTART:20250309T030000
TZOFFSETFROM:-0500
TZOFFSETTO:-0400
TZNAME:EDT
END:DAYLIGHT
END:VTIMEZONE
END:VCALENDAR