BEGIN:VCALENDAR
VERSION:2.0
PRODID:-//wp-events-plugin.com//7.2.3.1//EN
TZID:America/Detroit
X-WR-TIMEZONE:America/Detroit
BEGIN:VEVENT
UID:35785@arabamerica.com
DTSTART:20260321T150000Z
DTEND:20260322T230000Z
DTSTAMP:20260131T052637Z
URL:https://www.arabamerica.com/events/26th-annual-lebanese-festival/
SUMMARY:26th Annual Lebanese Festival
DESCRIPTION:RALEIGH\, NC\n\n\n\n\n\nA Celebration of Culture\, Community\, 
 and Heritage\n\n\n\n\nEvery year\, the TLAC proudly hosts the Annual Ra
 leigh Lebanese Festival\, bringing the vibrant spirit of Lebanon to the h
 eart of North Carolina. With over 3\,000 visitors annually\, this festiva
 l is a cherished tradition that showcases Lebanese food\, music\, dance\,
  and cultural heritage—all in an atmosphere of joy and togetherness.\nJo
 in us for two days filled with delicious cuisine\, lively performances\, 
 and family-friendly activities\, as we share the beauty of Lebanese cultur
 e with the community. Admission is FREE!\n\n\n\n\n\n\n\n\n\n\nWhat to Exp
 ect at the Festival\n\n\n\n\n&#x1f9c6\; Authentic Lebanese Cuisine – I
 ndulge in traditional favorites like kibbeh\, shawarma\, tabbouleh\, hummu
 s\, and fresh-baked baklava.\n&#x1f483\; Live Dabke Performances – Exp
 erience the energy of Lebanon’s traditional folk dance\, performed by T
 LAC’s talented dabke team.\n&#x1f3b6\; Music &amp\; Entertainment – 
 Enjoy live Lebanese music and performances that bring the festival to life
 .\n&#x1f6cd\;&#xfe0f\; Cultural Exhibits &amp\; Shopping – Explore art
 isanal crafts\, souvenirs\, and Lebanese cultural displays.\n&#x1f3a8\; K
 ids’ Activities &amp\; Family Fun – Bring the whole family for intera
 ctive experiences\, face painting\, and more!\n&#x1f39f\;&#xfe0f\; Raffle
 s &amp\; Giveaways – Participate in exciting raffles with great prizes\
 , sponsored by our generous partners.\n\n\n\n\n\n\n\n\n\n\nGet Involved in
  the Lebanese Festival!\n\n\n\n\nBe part of the Lebanese Festival by becom
 ing a Volunteer\, Sponsor\, or Vendor! Whether you’re looking to support
  the event\, lend a helping hand\, or showcase your products\, we have an 
 opportunity for you.\n\n\n\n\n\n\n\n\n\n\nBecome a Volunteer\n\n\n\n\nHelp
  bring the festival to life! Volunteers assist with:&#x2714\; Event setup
  &amp\; take down&#x2714\; Food service &amp\; merchandise sales&#x2714\;
  Kids’ activities &amp\; entertainment\nPlus\, volunteers receive a sp
 ecial thank-you gift!\n\n\n\n\n\nVolunteer Form\n\n\n\n\n\n\nBecome a Spon
 sor\n\n\n\n\nGain valuable exposure and support a beloved cultural traditi
 on! Our tiered sponsorship packages offer benefits like:&#x2714\; Brand
  visibility through banners &amp\; promotions&#x2714\; Stage shout-outs
  recognizing your support&#x2714\; Digital marketing opportunities\n\n\n
 \n\n\nSponsorship Packages\n\n\n\n\n\n\nBecome a Vendor\n\n\n\n\nDo you se
 ll Lebanese or Lebanese-inspired goods? Apply for a vendor booth and shar
 e your unique products with thousands of festival attendees!\n&#x2714\; Ha
 ndcrafted items\, jewelry\, art\, &amp\; decor&#x2714\; Lebanese spices\, 
 &amp\; packaged goods&#x2714\; Cultural apparel\, accessories\, &amp\; gif
 ts\n\n\n\n\n\n\n
ATTACH;FMTTYPE=image/jpeg:https://www.arabamerica.com/wp-content/uploads/2
 026/01/3009.jpg
CATEGORIES:Arab,Arab American,Arabic Culture,Arabic
 Dance,Community,culture,Food,Lebanese,Lebanese community,Lebanese
 Festival,Lebanese Food,Lebanese Women,Lebanese-American,Lebanon
LOCATION:241 Horizon Drive\, 241 Horizon Drive\, Raleigh\, NC\, 27615\, Uni
 ted States
GEO:35.883613;-78.647828
X-APPLE-STRUCTURED-LOCATION;VALUE=URI;X-ADDRESS=241 Horizon Drive\, Raleigh
 \, NC\, 27615\, United States;X-APPLE-RADIUS=100;X-TITLE=241 Horizon Drive
 :geo:35.883613,-78.647828
END:VEVENT
END:VCALENDAR