BEGIN:VCALENDAR
VERSION:2.0
PRODID:-//wp-events-plugin.com//7.2.3.1//EN
TZID:America/Detroit
X-WR-TIMEZONE:America/Detroit
BEGIN:VEVENT
UID:36211@arabamerica.com
DTSTART;TZID=America/New_York:20260423T100000
DTEND;TZID=America/New_York:20260423T160000
DTSTAMP:20260421T140101Z
URL:https://www.arabamerica.com/events/2nd-oud-forum/
SUMMARY:2nd Oud Forum
DESCRIPTION:WASHINGTON\, DC\n\n\n\nCelebrating the Oud and Arabic art durin
 g National Arab-American Heritage Month\n\n\n\n\n\nWelcome to the 2nd Oud 
 Forum!\nA celebration of the Oud &amp\; Arab art experience:\n\n 	Artwork 
 and paintings inspired by the Oud\n 	Exhibition of Ouds from leading Arab 
 manufacturers\, alongside Western-designed Ouds\n 	Participation of Oud ex
 perts from across the Arab world\n 	Chat with Oud experts and even take ph
 otos with the Oud!\n 	LIVE &amp\; Recorded performance by many great oud p
 layers from all over the world.\n\nRefreshments\, such as Arabian coffee\,
  tea\, and snacks\, All provided by our partner\, Shotted.\n\nhttps://www.
 eventbrite.com/e/2nd-oud-forum-tickets-1987163936828?aff=oddtdtcreator\n\n
 \n
ATTACH;FMTTYPE=image/jpeg:https://www.arabamerica.com/wp-content/uploads/2
 026/04/Screenshot-2026-04-21-at-9.45.49-AM-1.png
LOCATION:Egyptian Cultural & Educational Bureau\, 1303 New Hampshire Avenue
  Northwest\, Washington\, DC\, 20036\, United States
GEO:38.907534;-77.045097
X-APPLE-STRUCTURED-LOCATION;VALUE=URI;X-ADDRESS=1303 New Hampshire Avenue N
 orthwest\, Washington\, DC\, 20036\, United States;X-APPLE-RADIUS=100;X-TI
 TLE=Egyptian Cultural & Educational Bureau:geo:38.907534,-77.045097
END:VEVENT
BEGIN:VTIMEZONE
TZID:America/New_York
X-LIC-LOCATION:America/New_York
BEGIN:DAYLIGHT
DTSTART:20260308T030000
TZOFFSETFROM:-0500
TZOFFSETTO:-0400
TZNAME:EDT
END:DAYLIGHT
END:VTIMEZONE
END:VCALENDAR