BEGIN:VCALENDAR
VERSION:2.0
PRODID:-//wp-events-plugin.com//7.2.3.1//EN
TZID:America/Detroit
X-WR-TIMEZONE:America/Detroit
BEGIN:VEVENT
UID:31390@arabamerica.com
DTSTART;TZID=America/Detroit:20230825T000000
DTEND;TZID=America/Detroit:20230827T000000
DTSTAMP:20230712T034111Z
URL:https://www.arabamerica.com/events/30th-annual-greater-dayton-lebanese
 -festival/
SUMMARY:30th Annual Greater Dayton Lebanese Festival
DESCRIPTION:"The 30th Annual Greater Dayton Lebanese Festival will be held 
 Friday August 25\, 2023 thru Sunday August 27\, 2023 on the Grounds of St 
 Ignatius of Antioch Maronite Church in Dayton (50 Nutt Rd in Washington To
 wnship). Stay tuned for more updates.\n\n​\n\nThere will be plenty of pa
 rking on site\, with overflow parking available at the nearby Oak Grove Pa
 rk (Lot I close to the baseball diamonds) https://goo.gl/maps/wcTsYvAtk6vD
 SSMq9\n\nShuttle Service from and to Oak Grove Park will be provided on re
 gular basis.\n\n​\n\nFood and Beverage Sales will start around 6:00pm Fr
 iday August 25th\, immediately after the Opening Ceremonies are over.\n\n
 ​\n\nPlease see our menu for food selection. We will also have Za'atar a
 nd Cheese Flatbread at our Mountain Bread Booth\, a variety of desserts at
  the Dessert Booth\, and as always Cold Beverages and Draft Beer\, with Al
 maza and Lebanese Wine. The Festival will also feature Dabke Dance and Eth
 nic Music with scattered seating arrangements\, and Rides for the Kids! Co
 me and enjoy our hospitality Friday Aug 25th\, Saturday August 26th\, and 
 Sunday August 27th.\n\n​\n\nStarting Monday August 21st\, you can also p
 re-order food from our menu and walk-up and pick up your order at the spec
 ified time during Festival Hours."
ATTACH;FMTTYPE=image/jpeg:https://www.arabamerica.com/wp-content/uploads/2
 023/07/Updated-2023-Festival-Flyer-SNIPPED.webp
CATEGORIES:Community,culture,Discussion,Food,lebanese
LOCATION:St Ignatius of Antioch Maronite Church\, 50 Nutt Road\, Dayton\, O
 hio\, United States
GEO:39.597949;-84.160907
X-APPLE-STRUCTURED-LOCATION;VALUE=URI;X-ADDRESS=50 Nutt Road\, Dayton\, Ohi
 o\, United States;X-APPLE-RADIUS=100;X-TITLE=St Ignatius of Antioch Maroni
 te Church:geo:39.597949,-84.160907
END:VEVENT
BEGIN:VTIMEZONE
TZID:America/Detroit
X-LIC-LOCATION:America/Detroit
BEGIN:DAYLIGHT
DTSTART:20230312T030000
TZOFFSETFROM:-0500
TZOFFSETTO:-0400
TZNAME:EDT
END:DAYLIGHT
END:VTIMEZONE
END:VCALENDAR