BEGIN:VCALENDAR
VERSION:2.0
PRODID:-//wp-events-plugin.com//7.2.3.1//EN
TZID:America/Detroit
X-WR-TIMEZONE:America/Detroit
BEGIN:VEVENT
UID:34066@arabamerica.com
DTSTART;TZID=America/Detroit:20250426T183000
DTEND;TZID=America/Detroit:20250426T200000
DTSTAMP:20250217T210918Z
URL:https://www.arabamerica.com/events/317-main-presents-jawahir-arabic-mu
 sic-ensemble/
SUMMARY:317 Main Presents: Jawahir Arabic Music Ensemble
DESCRIPTION:\n\nJoin us for a night of enchanting Arabic music with Jawahir
  Arabic Music Ensemble!\n\n\n\n\n\n\n\n\n\n\n\n\n\n\n\n\n
ATTACH;FMTTYPE=image/jpeg:https://www.arabamerica.com/wp-content/uploads/2
 025/02/Screenshot-2025-02-17-at-3.14.08 PM.png
CATEGORIES:Arab American,Community,culture,Music/Folk/World
LOCATION:317 Main Community Music Center\, 317 Main Street\, Yarmouth\, ME\
 , 04096\, United States
GEO:43.802959;-70.191337
X-APPLE-STRUCTURED-LOCATION;VALUE=URI;X-ADDRESS=317 Main Street\, Yarmouth\
 , ME\, 04096\, United States;X-APPLE-RADIUS=100;X-TITLE=317 Main Community
  Music Center:geo:43.802959,-70.191337
END:VEVENT
BEGIN:VTIMEZONE
TZID:America/Detroit
X-LIC-LOCATION:America/Detroit
BEGIN:DAYLIGHT
DTSTART:20250309T030000
TZOFFSETFROM:-0500
TZOFFSETTO:-0400
TZNAME:EDT
END:DAYLIGHT
END:VTIMEZONE
END:VCALENDAR