BEGIN:VCALENDAR
VERSION:2.0
PRODID:-//wp-events-plugin.com//7.2.3.1//EN
TZID:America/Detroit
X-WR-TIMEZONE:America/Detroit
BEGIN:VEVENT
UID:31573@arabamerica.com
DTSTART;TZID=America/Detroit:20230924T173000
DTEND;TZID=America/Detroit:20230924T203000
DTSTAMP:20230818T004418Z
URL:https://www.arabamerica.com/events/33rd-annual-arab-american-candidate
 s-night/
SUMMARY:33rd Annual Arab American Candidates' Night
DESCRIPTION:"Defending the Freedom of Speech". Arab American Democratic Cau
 cus &amp\; Arab American Republican Caucus.\n\nJoin us for an impactful ev
 ening filled with insights from elected officials and candidates vying for
  our vote.\n\nThe Arab American Community holds this non-partisan\, Annual
  Candidates Night Dinner\, for all candidates to present themselves\, thei
 r new districts\, and their campaigns to the community.\n\nJoin us for thi
 s year’s Candidate’s Night and enjoy a sit-down dinner while you hear 
 from the candidates running in the upcoming elections.
ATTACH;FMTTYPE=image/jpeg:https://www.arabamerica.com/wp-content/uploads/2
 023/08/FILE-0094-pdf.jpg
CATEGORIES:Arab Ameircan Event,Arab American,Arab
 Politics,Community,culture,Discussion,Lecture,Political,Political
 Interest,Politician,Politics
LOCATION:Marriott Fairview Park\, 3111 Fairview Park Dr\, Falls Church\, VA
 \, 22042\, United States
GEO:38.860687;-77.215941
X-APPLE-STRUCTURED-LOCATION;VALUE=URI;X-ADDRESS=3111 Fairview Park Dr\, Fal
 ls Church\, VA\, 22042\, United States;X-APPLE-RADIUS=100;X-TITLE=Marriott
  Fairview Park:geo:38.860687,-77.215941
END:VEVENT
BEGIN:VTIMEZONE
TZID:America/Detroit
X-LIC-LOCATION:America/Detroit
BEGIN:DAYLIGHT
DTSTART:20230312T030000
TZOFFSETFROM:-0500
TZOFFSETTO:-0400
TZNAME:EDT
END:DAYLIGHT
END:VTIMEZONE
END:VCALENDAR