BEGIN:VCALENDAR
VERSION:2.0
PRODID:-//wp-events-plugin.com//7.2.3.1//EN
TZID:America/Detroit
X-WR-TIMEZONE:America/Detroit
BEGIN:VEVENT
UID:35343@arabamerica.com
DTSTART;TZID=America/New_York:20251118T090000
DTEND;TZID=America/New_York:20251118T203000
DTSTAMP:20251105T173444Z
URL:https://www.arabamerica.com/events/33rd-annual-arab-u-s-policymakers-c
 onference-evening-performance-by-torath-ensemble/
SUMMARY:33rd Annual Arab-U.S. Policymakers Conference & Evening Performance
  by Torath Ensemble
DESCRIPTION:\nTuesday\, November 18\, 2025 (9:00 AM- 8:30 PM)\n\n 	Morning 
 and Afternoon Panel Discussions and Featured Speakers\n 	Luncheon\n 	Eveni
 ng Cocktail Reception\n 	After Conference Performance by Torath Ensemble\n
 \nThe 33rd Annual Arab-U.S. Policymakers Conference will convene in the Am
 phitheater located inside the Ronald Reagan Building and International Tra
 de Center in Washington\, D.C. - 1300 Pennsylvania Ave NW\, Washington\, D
 C 20004\n\nJoin the National Council after our conference proceedings for 
 an unforgettable evening of classical Arab melodies\, poetry\, and storyte
 lling with the acclaimed Torath Ensemble.\n\n\n\nThe concert admission is 
 included with your conference registration\, or you may purchase a separat
 e ticket to attend the concert only. There is no reserved seating for the 
 concert\, all seating arrangments are first come\, first served.\n\n&nbsp\
 ;\n\nPhotography and Media Consent Notice:\n\nBy purchasing a ticket and a
 ttending this conference\, you acknowledge and agree that you may be photo
 graphed\, filmed\, or otherwise recorded during the event. You hereby gran
 t the National Council on U.S.-Arab Relations full rights to use\, reprodu
 ce\, and distribute any such images\, video\, or audio recordings featurin
 g your likeness for promotional\, educational\, archival\, or other lawful
  purposes\, in any media format now known or later developed\, without fur
 ther notice or compensation.\n\nWe will not be offering any ticket refunds
  for this event. By purchasing a ticket\, you understand that all ticket p
 urchases are non-refundable.\n\n&nbsp\;\n\n\n\n&nbsp\;\n\nSince 1992\, the
  National Council's Annual Arab-U.S. Policymakers Conference has gathere
 d nationally and internationally renowned specialists for a one-of-a-kind 
 shared experience. Arab and American leaders from government\, the militar
 y\, business\, and academe share privileged information\, insight\, and re
 commendations in remarks and during discussions. The specialists are taske
 d with prioritizing\, discussing\, debating\, and analyzing issues of over
 arching importance to Americans\, Arabs\, and others.\n\nThe Arab-U.S. Pol
 icymakers Conference's mission is educational. It is the largest gatherin
 g in America dedicated to understanding and offering proposals for improvi
 ng the U.S.-Arab relationship.\n\n\n\nVideo recordings of past Policymaker
 s Conferences are available on the National Council’s website. \n\n&nbs
 p\;\n\n\n\n&nbsp\;\n\nFounded in 1983\, the National Council on U.S.-Arab
  Relations is an American non-profit\, non-governmental\, educational org
 anization dedicated to improving American awareness\, knowledge\, and unde
 rstanding of the Arab countries\, the Mideast\, and the Islamic world.\n\n
 Its means for doing so encompass but are not limited to programs for lead
 ership development\, people-to-people exchanges\, lectures\, publicatio
 ns\, an annual Arab-U.S. policymakers conference\, and the participation
  of American students and faculty in Arab world study experiences. As a pu
 blic service\, the National Council also serves as an information cleari
 nghouse and participant in national\, state\, and local grassroots outrea
 ch to media\, think tanks\, and select community\, civic\, educational\, b
 usiness\, and professional associations. In these ways the Council helps s
 trengthen and expand the overall Arab-U.S. relationship.
ATTACH;FMTTYPE=image/jpeg:https://www.arabamerica.com/wp-content/uploads/2
 025/10/Screenshot-2025-11-05-at-12.32.31-PM.png
LOCATION:Ronald Reagan Building & International Trade Center\, 1300 Pennsyl
 vania Ave NW\, Washington\, DC\, United States
GEO:38.8941963;-77.03076579999998
X-APPLE-STRUCTURED-LOCATION;VALUE=URI;X-ADDRESS=1300 Pennsylvania Ave NW\, 
 Washington\, DC\, United States;X-APPLE-RADIUS=100;X-TITLE=Ronald Reagan B
 uilding & International Trade Center:geo:38.8941963,-77.03076579999998
END:VEVENT
BEGIN:VTIMEZONE
TZID:America/New_York
X-LIC-LOCATION:America/New_York
BEGIN:STANDARD
DTSTART:20251102T010000
TZOFFSETFROM:-0400
TZOFFSETTO:-0500
TZNAME:EST
END:STANDARD
END:VTIMEZONE
END:VCALENDAR