BEGIN:VCALENDAR
VERSION:2.0
PRODID:-//wp-events-plugin.com//7.2.3.1//EN
TZID:America/Detroit
X-WR-TIMEZONE:America/Detroit
BEGIN:VEVENT
UID:30680@arabamerica.com
DTSTART;TZID=America/Detroit:20230421T190000
DTEND;TZID=America/Detroit:20230421T220000
DTSTAMP:20230314T131727Z
URL:https://www.arabamerica.com/events/3rd-fridays-at-the-playground-poetr
 y-arabic-heritage-month/
SUMMARY:3rd Fridays at the Playground: Poetry & Arabic Heritage Month
DESCRIPTION:INDIANAPOLIS\, IN\n\n3rd Fridays are a unique exhibition of a w
 ide variety local Indianapolis talents. Hosted by Playground Production St
 udios in Irvington\, these events are free to attend and open to all ages 
 (though parents should use discretion as there may be art of mature conten
 t). The lobby gallery displays work from three visual artists\, and we hav
 e space for ten other vendors throughout the building. Painters\, sculptor
 s\, photographers\, fashion designers\, woodworkers\, metal artists\, cand
 le &amp\; soap makers\, jewelry makers\, and artisans of all kinds join us
  for 3rd Fridays. The evening opens with a community drum circle that is o
 pen to everyone of any level of experience. Each month a new musical guest
  will perform\, as well as poets\, authors\, and comedians throughout the 
 night.\n\nIf you are an artist/maker and would like to sell your work at a
  3rd Friday event\, please start by filling out the application. Once appr
 oved\, a $25.00 booth fee will reserve your 6x6’ space or hanging galler
 y space.\n\n\nThis month's 3rd Fridays at the Playground is recognizing an
 d celebrating Poetry and Arabic Culture month with local artists\, vendors
 \, poets\, authors\, Middle Eastern style music\, and belly dancers!\n\nFR
 EE to Attend!\nOpen drum &amp\; dance circle from 7-8 All levels welcome!\
 nBeer\, Wine\, and Cider available for purchase!\nAll Ages Welcome! (paren
 ts please use discretion)\n\nArtists\, Makers\, and other Vendors get more
  info and apply at https://kelsobell.com/3rdfridays\n\nMusicians and perf
 orming artists contact info(at)playgroundindy.com to apply for a performan
 ce!\n~ This is a non paying gig. Performing artists can have a free table 
 to display and sell merchandise\, and to pass the hat for tips from the cr
 owd.\n\n\n
ATTACH;FMTTYPE=image/jpeg:https://www.arabamerica.com/wp-content/uploads/2
 023/03/37f5860f6661639c8354bc4228f8feb9e22e26c16fe73a40057fd93722bf0568-ri
 mg-w960-h355-gmir.jpg
CATEGORIES:Community,culture,Food,Music/Folk/World
LOCATION:Playground Productions Studio\, 5529 N Bonna Ave #10\, Indianapoli
 s\, Indiana\, United States
GEO:39.766888;-86.071876
X-APPLE-STRUCTURED-LOCATION;VALUE=URI;X-ADDRESS=5529 N Bonna Ave #10\, Indi
 anapolis\, Indiana\, United States;X-APPLE-RADIUS=100;X-TITLE=Playground P
 roductions Studio:geo:39.766888,-86.071876
END:VEVENT
BEGIN:VTIMEZONE
TZID:America/Detroit
X-LIC-LOCATION:America/Detroit
BEGIN:DAYLIGHT
DTSTART:20230312T030000
TZOFFSETFROM:-0500
TZOFFSETTO:-0400
TZNAME:EDT
END:DAYLIGHT
END:VTIMEZONE
END:VCALENDAR