BEGIN:VCALENDAR
VERSION:2.0
PRODID:-//wp-events-plugin.com//7.2.3.1//EN
TZID:America/Detroit
X-WR-TIMEZONE:America/Detroit
BEGIN:VEVENT
UID:31501@arabamerica.com
DTSTART;TZID=America/Detroit:20231116T173000
DTEND;TZID=America/Detroit:20231116T220000
DTSTAMP:20230802T180128Z
URL:https://www.arabamerica.com/events/40th-annual-national-council-on-u-s
 -arab-relations/
SUMMARY:40th Annual National Council on U.S. Arab Relations
DESCRIPTION:"Join the National Council for a special evening in celebration
  of the 40th anniversary of the Council's establishment as a Washington-ba
 sed\, non-profit\, educational NGO.\n\nAs the Council commemorates four de
 cades of promoting educational and cultural understanding\, it will honor 
 and recognize outstanding leaders who have made significant contributions 
 to building bridges between the United States and the Arab region. There w
 ill also be keynote remarks by HRH Prince Turki Al Faisal Al Saud during t
 he program as well as music\, entertainment\, and a unique silent auction 
 in support of the Council's educational mission.\nFounded in 1983\, the N
 ational Council on U.S.-Arab Relations is an American non-profit\, non-go
 vernmental\, educational organization dedicated to improving American awar
 eness\, knowledge\, and understanding of the Arab countries\, the Mideast\
 , and the Islamic world.\nIts means for doing so encompass but are not lim
 ited to programs for leadership development\, people-to-people exchanges
 \, lectures\, publications\, an annual Arab-U.S. policymakers conferenc
 e\, and the participation of American students and faculty in Arab world 
 study experiences. As a public service\, the National Council also serves 
 as an information clearinghouse and participant in national\, state\, a
 nd local grassroots outreach to media\, think tanks\, and select community
 \, civic\, educational\, business\, and professional associations. In thes
 e ways the Council helps strengthen and expand the overall Arab-U.S. relat
 ionship."
ATTACH;FMTTYPE=image/jpeg:https://www.arabamerica.com/wp-content/uploads/2
 023/08/Screenshot-2023-08-02-at-2.00.32-PM.png
CATEGORIES:Arab American,Arab-American,Arab-U.S.
 Relations,Community,culture,Discussion,Gala,Lecture
LOCATION:Willard InterContinental Hotel\, 1401 Pennsylvania Avenue NW\, Was
 hington DC\, United States
GEO:38.896349;-77.032294
X-APPLE-STRUCTURED-LOCATION;VALUE=URI;X-ADDRESS=1401 Pennsylvania Avenue NW
 \, Washington DC\, United States;X-APPLE-RADIUS=100;X-TITLE=Willard InterC
 ontinental Hotel:geo:38.896349,-77.032294
END:VEVENT
BEGIN:VTIMEZONE
TZID:America/Detroit
X-LIC-LOCATION:America/Detroit
BEGIN:STANDARD
DTSTART:20231105T010000
TZOFFSETFROM:-0400
TZOFFSETTO:-0500
TZNAME:EST
END:STANDARD
END:VTIMEZONE
END:VCALENDAR