BEGIN:VCALENDAR
VERSION:2.0
PRODID:-//wp-events-plugin.com//7.2.3.1//EN
TZID:America/Detroit
X-WR-TIMEZONE:America/Detroit
BEGIN:VEVENT
UID:33459@arabamerica.com
DTSTART;TZID=America/Detroit:20241019T110000
DTEND;TZID=America/Detroit:20241019T190000
DTSTAMP:20240903T195732Z
URL:https://www.arabamerica.com/events/45th-annual-palestine-cultural-day-
 2/
SUMMARY:45th Annual Palestine Cultural Day
DESCRIPTION:Join us for Palestine culture Day at Redwood City Courthouse sq
 uare!\n\nWe invite you to an uplifting event to honor\, raise funds\, and 
 bring awareness to the suffering families in Gaza. Celebrate Palestinian c
 ulture through a vibrant showcase of food\, music and heritage at the Redw
 ood City Courthouse Square. All proceeds will be donated to charities prov
 iding humanitarian relief to the suffering people in Gaza and the West Ban
 k.\n\nDate: October 19th\, 2024\n\nTime: 12 noon\, all day\n\nAddress: 220
 0 Broadway\, Redwood City\, Ca\n\nWe look forward in joining together and 
 see you there.
ATTACH;FMTTYPE=image/jpeg:https://www.arabamerica.com/wp-content/uploads/2
 024/09/https-cdn.evbuc_.com-images-826453969-184273037651-1-original.20240
 813-171237.jpeg
LOCATION:Redwood City Courthouse Square\, 2200 Broadway\, Redwood City\, CA
 \, 94063\, United States
GEO:37.486668;-122.229662
X-APPLE-STRUCTURED-LOCATION;VALUE=URI;X-ADDRESS=2200 Broadway\, Redwood Cit
 y\, CA\, 94063\, United States;X-APPLE-RADIUS=100;X-TITLE=Redwood City Cou
 rthouse Square:geo:37.486668,-122.229662
END:VEVENT
BEGIN:VTIMEZONE
TZID:America/Detroit
X-LIC-LOCATION:America/Detroit
BEGIN:DAYLIGHT
DTSTART:20240310T030000
TZOFFSETFROM:-0500
TZOFFSETTO:-0400
TZNAME:EDT
END:DAYLIGHT
END:VTIMEZONE
END:VCALENDAR