BEGIN:VCALENDAR
VERSION:2.0
PRODID:-//wp-events-plugin.com//7.2.3.1//EN
TZID:America/Detroit
X-WR-TIMEZONE:America/Detroit
BEGIN:VEVENT
UID:34254@arabamerica.com
DTSTART;TZID=America/Detroit:20250410T190000
DTEND;TZID=America/Detroit:20250410T213000
DTSTAMP:20250331T002206Z
URL:https://www.arabamerica.com/events/4th-comedy-for-palestine-fundraiser
 -show-featuring-francesca-fiorentini/
SUMMARY:4th Comedy for Palestine - Fundraiser Show - Featuring Francesca Fi
 orentini
DESCRIPTION:Comedy for Palestine - Fundraiser Comedy Show\n\nCome join us f
 or a night of laughter and support a great cause! Our Fourth Comedy for Pa
 lestine event is a fundraiser comedy show that aims to raise funds for a m
 eaningful cause to help families in Gaza for food and necessities. This sh
 ow is a very special one for many reasons! One is we have two Headliners t
 hat have been a big voice for advocating for P@lestine\, Francesca\, and S
 ubhah. We are excited to have them join us for this show. Second\, we have
  partnered with Jacob Berger and Nicole Jenes who are currently in Egypt h
 elping with Aid trucks going into G@za. They have dedicated their time in 
 efforts in contributing to direct aid! Our goal for this show is to raise 
 $10\,000\, and 100% of all proceeds will be sent to them to purchase any n
 ecessities for the P@lestinians\, including sleeping bags\, jackets\, and 
 food. Shout out to a few sponsors that will also be donating products to h
 elp raise more money\, including Knafeh Queens and Drink Palestina and mor
 e to come plus a huge thank you to everyone who is helping out from the co
 medians to coordinators\, Everyone is volunteering their time to ensure 10
 0% goes to the people who need it! Tickets are $40 minimum donation. There
  will be a Front Row VIP seats for $100. The event will be at Noah's Resta
 urant and Banquet Hall in San Bernardino. They have food and a full bar of
  drinks available for purchase. If we hit their required threshold\, they 
 will donate 15% of all sales the night of the show! We hope you can join u
 s and help make a difference. Let's come together for a night of fun and g
 enerosity! Please share\, invite your friends\, and make this a successful
  fundraiser!
ATTACH;FMTTYPE=image/jpeg:https://www.arabamerica.com/wp-content/uploads/2
 025/03/Screenshot-2025-03-30-at-8.29.34 PM.png
LOCATION:Noah's Restaurant\, 863 North D Street\, San Bernardino\, CA\, 924
 01\, United States
GEO:34.115077;-117.291473
X-APPLE-STRUCTURED-LOCATION;VALUE=URI;X-ADDRESS=863 North D Street\, San Be
 rnardino\, CA\, 92401\, United States;X-APPLE-RADIUS=100;X-TITLE=Noah's Re
 staurant:geo:34.115077,-117.291473
END:VEVENT
BEGIN:VTIMEZONE
TZID:America/Detroit
X-LIC-LOCATION:America/Detroit
BEGIN:DAYLIGHT
DTSTART:20250309T030000
TZOFFSETFROM:-0500
TZOFFSETTO:-0400
TZNAME:EDT
END:DAYLIGHT
END:VTIMEZONE
END:VCALENDAR