BEGIN:VCALENDAR
VERSION:2.0
PRODID:-//wp-events-plugin.com//7.2.3.1//EN
TZID:America/Detroit
X-WR-TIMEZONE:America/Detroit
BEGIN:VEVENT
UID:34758@arabamerica.com
DTSTART;TZID=America/Detroit;VALUE=DATE:20250726
DTEND;TZID=America/Detroit;VALUE=DATE:20250728
DTSTAMP:20250709T152847Z
URL:https://www.arabamerica.com/events/52nd-annual-arab-and-chaldean-festi
 val/
SUMMARY:52nd Annual Arab and Chaldean Festival
DESCRIPTION:The Arab and Chaldean Festival will take place at Hart Plaza\, 
 located in Downtown Detroit\, Michigan\, on Saturday and Sunday\, July 26t
 h and 27th\, 2025.\n\nIt is the largest Arab and Chaldean American cultura
 l event in North America. This year\, we will be celebrating the 52nd Anni
 versary in the city of Detroit. Each year\, thousands of people of all age
 s attend the festival during the two-day event. The festival features a va
 riety of ethnic foods\, a cultural gallery\, and impressive Middle Eastern
  live performances\, which will include Star Singers and many folk dancers
 \, as well as a Clown for Children and a fashion show scheduled for Sunday
 \, July 27th\, at 7:00 pm.
ATTACH;FMTTYPE=image/jpeg:https://www.arabamerica.com/wp-content/uploads/2
 025/07/Screenshot-2025-07-09-at-11.24.07 AM.png
LOCATION:Hart Plaza\, 1 Hart Plaza\, Detroit\, MI\, United States
GEO:42.327307;-83.04426209999997
X-APPLE-STRUCTURED-LOCATION;VALUE=URI;X-ADDRESS=1 Hart Plaza\, Detroit\, MI
 \, United States;X-APPLE-RADIUS=100;X-TITLE=Hart Plaza:geo:42.327307,-83.0
 4426209999997
END:VEVENT
BEGIN:VTIMEZONE
TZID:America/Detroit
X-LIC-LOCATION:America/Detroit
BEGIN:DAYLIGHT
DTSTART:20250309T030000
TZOFFSETFROM:-0500
TZOFFSETTO:-0400
TZNAME:EDT
END:DAYLIGHT
END:VTIMEZONE
END:VCALENDAR