BEGIN:VCALENDAR
VERSION:2.0
PRODID:-//wp-events-plugin.com//7.2.3.1//EN
TZID:America/Detroit
X-WR-TIMEZONE:America/Detroit
BEGIN:VEVENT
UID:31190@arabamerica.com
DTSTART;TZID=America/Detroit:20230723T000000
DTEND;TZID=America/Detroit:20230730T000000
DTSTAMP:20230605T030429Z
URL:https://www.arabamerica.com/events/56th-biennial-antiochian-archdioces
 e-convention/
SUMMARY:56th Biennial Antiochian Archdiocese Convention
DESCRIPTION:"Everyone faces darkness in this world. St. George is building 
 an army of Warrior Saints who overcome that darkness by living a Crucifixi
 onal Life. Being Crucifixional means following Jesus Christ and putting Go
 d’s will ahead of our own. St. George teaches the Crucifixional Life thr
 ough the power of E3. Join us and overcome the darkness.\n\nHosted by St. 
 George Antiochian Orthodox Church\, Phoenix\, Arizona. Held at the JW Marr
 iott Phoenix Desert Ridge Resort &amp\; Spa.\n\nThere are still rooms avai
 lable! Book yours today before we are completely sold out. For dates that 
 are not available within the group room block\, please visit www.jwdesertr
 idge.com for the prevailing leisure rate.\n\nWe have also secured overflow
  rooms at Cambria Hotel Phoenix-North Scottsdale. Please click the button 
 below to make your reservation."\n\nWith guest speakers and entertainment!
  Check out https://ac2023az.org/ for more details.
ATTACH;FMTTYPE=image/jpeg:https://www.arabamerica.com/wp-content/uploads/2
 023/06/Header-for-Mailchimp.png
CATEGORIES:Christian,Christian
 Mixer,Christianity,Church,Community,culture,Religous
LOCATION:JW Marriott Phoenix Desert Ridge Resort & Spa\, 5350 E Marriott Dr
 \, Phoenix\, AZ\, 85054\, United States
GEO:33.693627;-111.966281
X-APPLE-STRUCTURED-LOCATION;VALUE=URI;X-ADDRESS=5350 E Marriott Dr\, Phoeni
 x\, AZ\, 85054\, United States;X-APPLE-RADIUS=100;X-TITLE=JW Marriott Phoe
 nix Desert Ridge Resort & Spa:geo:33.693627,-111.966281
END:VEVENT
BEGIN:VTIMEZONE
TZID:America/Detroit
X-LIC-LOCATION:America/Detroit
BEGIN:DAYLIGHT
DTSTART:20230312T030000
TZOFFSETFROM:-0500
TZOFFSETTO:-0400
TZNAME:EDT
END:DAYLIGHT
END:VTIMEZONE
END:VCALENDAR