BEGIN:VCALENDAR
VERSION:2.0
PRODID:-//wp-events-plugin.com//7.2.3.1//EN
TZID:America/Detroit
X-WR-TIMEZONE:America/Detroit
BEGIN:VEVENT
UID:35854@arabamerica.com
DTSTART;TZID=America/Detroit:20260228T180000
DTEND;TZID=America/Detroit:20260228T220000
DTSTAMP:20260213T142443Z
URL:https://www.arabamerica.com/events/5th-annual-ramadan-fundraiser-pro-x
 -swb/
SUMMARY:5th Annual Ramadan Fundraiser PRO X SWB
DESCRIPTION:\n\n\nJoin us in person for the 5th Annual Ramadan Fundraiser t
 o support our community and share the spirit of giving!\n\n\n\n\n\nJoin Us
  for the 5th Annual Ramadan Fundraiser!\nWhen we give Together\, Lives cha
 nge!\n\nThis Ramadan\, we invite you to be part of something bigger. Our A
 nnual Fundraiser supports families in Gaza\, orphans\, and students strivi
 ng for a better future\, providing emergency aid\, meals\, and access to e
 ducation!\n\nThrough collaboration\, transparency\, and faith-driven actio
 n\, we ensure your support teaches those who need it most- restoring hope\
 , dignity\, and opportunity where it is need now!\n\nRamadan is a time of 
 mercy\, giving\, and transformation! Come break fast\, reflect\, and turn 
 compassion into lasting impact!\n\n\n\n\n\n\n\nRefund Policy\n\nRefunds up
  to 7 days before event\n\n\n\n\n\n\n\n\n\n
ATTACH;FMTTYPE=image/jpeg:https://www.arabamerica.com/wp-content/uploads/2
 026/02/image-4-1.webp
LOCATION:Dearborn Manor\, 5101 Oakman Blvd.\, Dearborn\, Michigan\, 48126\,
  United States
GEO:42.3250213;-83.1692931
X-APPLE-STRUCTURED-LOCATION;VALUE=URI;X-ADDRESS=5101 Oakman Blvd.\, Dearbor
 n\, Michigan\, 48126\, United States;X-APPLE-RADIUS=100;X-TITLE=Dearborn M
 anor:geo:42.3250213,-83.1692931
END:VEVENT
BEGIN:VTIMEZONE
TZID:America/Detroit
X-LIC-LOCATION:America/Detroit
BEGIN:STANDARD
DTSTART:20251102T010000
TZOFFSETFROM:-0400
TZOFFSETTO:-0500
TZNAME:EST
END:STANDARD
END:VTIMEZONE
END:VCALENDAR