BEGIN:VCALENDAR
VERSION:2.0
PRODID:-//wp-events-plugin.com//7.2.3.1//EN
TZID:America/Detroit
X-WR-TIMEZONE:America/Detroit
BEGIN:VEVENT
UID:34869@arabamerica.com
DTSTART;TZID=America/Detroit;VALUE=DATE:20250829
DTEND;TZID=America/Detroit;VALUE=DATE:20250902
DTSTAMP:20250801T204616Z
URL:https://www.arabamerica.com/events/62nd-annual-isna-convention/
SUMMARY:62ND ANNUAL ISNA CONVENTION
DESCRIPTION:CHICAGO\, IL\n\n&nbsp\;\n\nRenowned Speakers – Grand Bazaar 
 – Inspiring Sessions – Youth Program – MYNA – MSA – Networking E
 vents – Mushaira – Art Exhibits – Matrimonial Banquets – Entertain
 ment – Film Festival – Chaplaincy – Conference – Interfaith Banque
 t – Health Fair – Qiraat Competition – ISNA History Gallery – Comm
 unity Service Recognition Luncheon (CSRL) &amp\; President’s Award – C
 hildren’s Program – Basketball Tournament – Robotics Events &amp\; s
 o much more\n\nConvention in halls A – F.\n\n&nbsp\;\n\nSee Website for 
 Times: https://hq.isna.net/annual-convention
ATTACH;FMTTYPE=image/jpeg:https://www.arabamerica.com/wp-content/uploads/2
 025/08/Screenshot-2025-08-01-at-4.42.21-PM.png
LOCATION:Donald E Stephens Convention Center 5555 N. River RD. Rosemont\, 5
 555 N. River RD\, Rosemont\, Chicago\, United States
GEO:41.978951;-87.861943
X-APPLE-STRUCTURED-LOCATION;VALUE=URI;X-ADDRESS=5555 N. River RD\, Rosemont
 \, Chicago\, United States;X-APPLE-RADIUS=100;X-TITLE=Donald E Stephens Co
 nvention Center 5555 N. River RD. Rosemont:geo:41.978951,-87.861943
END:VEVENT
BEGIN:VTIMEZONE
TZID:America/Detroit
X-LIC-LOCATION:America/Detroit
BEGIN:DAYLIGHT
DTSTART:20250309T030000
TZOFFSETFROM:-0500
TZOFFSETTO:-0400
TZNAME:EDT
END:DAYLIGHT
END:VTIMEZONE
END:VCALENDAR