BEGIN:VCALENDAR
VERSION:2.0
PRODID:-//wp-events-plugin.com//7.2.3.1//EN
TZID:America/Detroit
X-WR-TIMEZONE:America/Detroit
BEGIN:VEVENT
UID:34071@arabamerica.com
DTSTART;TZID=America/Detroit;VALUE=DATE:20250702
DTEND;TZID=America/Detroit;VALUE=DATE:20250706
DTSTAMP:20250218T161440Z
URL:https://www.arabamerica.com/events/66th-annual-afrp-ramallah-conventio
 n/
SUMMARY:66th Annual AFRP Ramallah Convention
DESCRIPTION:In case you missed it\, registration for the 66th Annual AFRP R
 amallah Convention in San Francisco is OPEN! Join us from July 2-5\, 2025!
  This year’s convention for an unforgettable experience as we gather at 
 the beautiful and newly renovated Hyatt Regency Burlingame in San Francis
 co.\n\nDon’t miss out—register today to access the special Early Bird 
 registration! Act fast\, as the Early Bird rate expires March 14\, with t
 he cost of registration set to increase March 15.\n\nImportant: All hotel 
 guests must be registered to access any events\, and we will have controll
 ed access to ensure a smooth experience for all attendees.\n\nNOTE: All h
 otel reservations must be made using the link provided by the federation s
 ite at the time of registration. Third party hotel bookings\, such as Exp
 edia or Hotels.com\, will not be honored because they cause confusion in r
 eservation with the hotel. If you have booked such\, please contact info
 @ramallahconvention.com.\n\nBe sure to check out the full schedule of ev
 ents!
ATTACH;FMTTYPE=image/jpeg:https://www.arabamerica.com/wp-content/uploads/2
 025/02/Ramallah.png
CATEGORIES:#arabic,Arab,Arab American,Community,culture
LOCATION:Hyatt Regency Burlingame\, 1333 Old Bayshore Hwy\, Burlingame\, CA
 \, United States
GEO:37.593851;-122.365273
X-APPLE-STRUCTURED-LOCATION;VALUE=URI;X-ADDRESS=1333 Old Bayshore Hwy\, Bur
 lingame\, CA\, United States;X-APPLE-RADIUS=100;X-TITLE=Hyatt Regency Burl
 ingame:geo:37.593851,-122.365273
END:VEVENT
BEGIN:VTIMEZONE
TZID:America/Detroit
X-LIC-LOCATION:America/Detroit
BEGIN:DAYLIGHT
DTSTART:20250309T030000
TZOFFSETFROM:-0500
TZOFFSETTO:-0400
TZNAME:EDT
END:DAYLIGHT
END:VTIMEZONE
END:VCALENDAR