BEGIN:VCALENDAR
VERSION:2.0
PRODID:-//wp-events-plugin.com//7.2.3.1//EN
TZID:America/Detroit
X-WR-TIMEZONE:America/Detroit
BEGIN:VEVENT
UID:35059@arabamerica.com
DTSTART;TZID=America/Los_Angeles:20250913T190000
DTEND;TZID=America/Los_Angeles:20250913T220000
DTSTAMP:20250902T211454Z
URL:https://www.arabamerica.com/events/6th-stand-up-for-plestine-comedy-fu
 ndraiser-2/
SUMMARY:6th Stand Up for P@lestine - Comedy Fundraiser
DESCRIPTION:RIVERSIDE\, CA\n\n&nbsp\;\n\nCome laugh with us and support a g
 reat cause at Stand Up for P@lestine - Comedy Fundraiser!\n\n&#x1f3a4\; St
 and Up for P@lestine – A Comedy FundraiserGet ready to laugh for a cause
 ! Join us at Empire Underground - Downtown Riverside for an unforgettable 
 evening of comedy and community.\n\nNow in our sixth show\, we're bringing
  together a lineup of hilarious comedians who will keep you laughing all n
 ight—while we raise critical funds to support families in Gaza.\n\n&#x1f
 5d3\; Doors open at 6 PM&#x1f3ad\; Show starts at 7 PM&#x1f4cd\; Empire Un
 derground - Downtown Riverside - 3485 University Ave Suite Basement Rivers
 ide\, Ca - Look for the Balloons\n\nAll ticket sales go directly toward hu
 manitarian aid for Palestinian families. Bring your friends\, bring your h
 eart\, and let’s make a difference—one laugh at a time.\n\nSee you the
 re! &#x1f49a\;\n\nGet Tickets Here\n\n&nbsp\;
ATTACH;FMTTYPE=image/jpeg:https://www.arabamerica.com/wp-content/uploads/2
 025/09/Screenshot-2025-09-02-at-4.22.44-PM.png
LOCATION:3485 University Ave\, 3485 University Avenue\, Riverside\, Califor
 nia\, 92501\, United States
GEO:33.980985;-117.371425
X-APPLE-STRUCTURED-LOCATION;VALUE=URI;X-ADDRESS=3485 University Avenue\, Ri
 verside\, California\, 92501\, United States;X-APPLE-RADIUS=100;X-TITLE=34
 85 University Ave:geo:33.980985,-117.371425
END:VEVENT
BEGIN:VTIMEZONE
TZID:America/Los_Angeles
X-LIC-LOCATION:America/Los_Angeles
BEGIN:DAYLIGHT
DTSTART:20250309T030000
TZOFFSETFROM:-0800
TZOFFSETTO:-0700
TZNAME:PDT
END:DAYLIGHT
END:VTIMEZONE
END:VCALENDAR