BEGIN:VCALENDAR
VERSION:2.0
PRODID:-//wp-events-plugin.com//7.2.3.1//EN
TZID:America/Detroit
X-WR-TIMEZONE:America/Detroit
BEGIN:VEVENT
UID:34068@arabamerica.com
DTSTART;TZID=America/Detroit:20250322T190000
DTEND;TZID=America/Detroit:20250322T230000
DTSTAMP:20250217T211516Z
URL:https://www.arabamerica.com/events/76th-annual-saint-joesphs-hafli/
SUMMARY:76th Annual Saint Joesph's Hafli
DESCRIPTION:
ATTACH;FMTTYPE=image/jpeg:https://www.arabamerica.com/wp-content/uploads/2
 025/02/Screenshot-2025-02-17-at-3.18.35 PM.png
CATEGORIES:#arabic,Arab,Arab American,Community,culture,Food
LOCATION:Venus de Milo Restaurant & Banquet Facility\, 75 Grand Army Highwa
 y\, Swansea\, Massachusetts\, 02777\, United States
GEO:41.7424143;-71.18902890000004
X-APPLE-STRUCTURED-LOCATION;VALUE=URI;X-ADDRESS=75 Grand Army Highway\, Swa
 nsea\, Massachusetts\, 02777\, United States;X-APPLE-RADIUS=100;X-TITLE=Ve
 nus de Milo Restaurant & Banquet Facility:geo:41.7424143,-71.1890289000000
 4
END:VEVENT
BEGIN:VTIMEZONE
TZID:America/Detroit
X-LIC-LOCATION:America/Detroit
BEGIN:DAYLIGHT
DTSTART:20250309T030000
TZOFFSETFROM:-0500
TZOFFSETTO:-0400
TZNAME:EDT
END:DAYLIGHT
END:VTIMEZONE
END:VCALENDAR