BEGIN:VCALENDAR
VERSION:2.0
PRODID:-//wp-events-plugin.com//7.2.3.1//EN
TZID:America/Detroit
X-WR-TIMEZONE:America/Detroit
BEGIN:VEVENT
UID:34405@arabamerica.com
DTSTART;TZID=America/Detroit:20250515T150000
DTEND;TZID=America/Detroit:20250515T180000
DTSTAMP:20250513T173218Z
URL:https://www.arabamerica.com/events/77th-commemoration-of-the-palestini
 an-nakba/
SUMMARY:77th commemoration of the Palestinian Nakba
DESCRIPTION:77th commemoration of the Palestinian Nakba\, on 15 May 2025 (3
 -6 p.m.) and 16 May 2025 (10 a.m. – 6 p.m.) in the ECOSOC Chamber at Uni
 ted Nations Headquarters
CATEGORIES:#arabic,Arab,Arab Ameircan Event,Arab
 American,Community,culture,Discussion,Lecture,Music/Folk/World
LOCATION:United Nations Headquarters\, 801 1st Avenue\, New York\, New York
 \, 10017\, United States
GEO:40.7509238;-73.96855119999998
X-APPLE-STRUCTURED-LOCATION;VALUE=URI;X-ADDRESS=801 1st Avenue\, New York\,
  New York\, 10017\, United States;X-APPLE-RADIUS=100;X-TITLE=United Nation
 s Headquarters:geo:40.7509238,-73.96855119999998
END:VEVENT
BEGIN:VTIMEZONE
TZID:America/Detroit
X-LIC-LOCATION:America/Detroit
BEGIN:DAYLIGHT
DTSTART:20250309T030000
TZOFFSETFROM:-0500
TZOFFSETTO:-0400
TZNAME:EDT
END:DAYLIGHT
END:VTIMEZONE
END:VCALENDAR