BEGIN:VCALENDAR
VERSION:2.0
PRODID:-//wp-events-plugin.com//7.2.3.1//EN
TZID:America/Detroit
X-WR-TIMEZONE:America/Detroit
BEGIN:VEVENT
UID:34308@arabamerica.com
DTSTART;TZID=America/Detroit:20250503T133000
DTEND;TZID=America/Detroit:20250503T160000
DTSTAMP:20250417T042545Z
URL:https://www.arabamerica.com/events/7th-annual-arab-american-student-ho
 nor-roll-ceremony/
SUMMARY:7th Annual Arab American Student Honor Roll Ceremony
DESCRIPTION:OAKLAND\, CA\n\nClass of 2025\n\n7th Annual Arab American Stude
 nt Honor Roll Ceremony 2025!\n\nAll are welcome to attend this ceremony to
  honor these high achieving Arab American students!\n\n
ATTACH;FMTTYPE=image/jpeg:https://www.arabamerica.com/wp-content/uploads/2
 025/04/image-12.png
LOCATION:2825 International Blvd\, 2825 International Blvd\, Oakland\, CA\,
  94601\, United States
GEO:37.779471;-122.230999
X-APPLE-STRUCTURED-LOCATION;VALUE=URI;X-ADDRESS=2825 International Blvd\, O
 akland\, CA\, 94601\, United States;X-APPLE-RADIUS=100;X-TITLE=2825 Intern
 ational Blvd:geo:37.779471,-122.230999
END:VEVENT
BEGIN:VTIMEZONE
TZID:America/Detroit
X-LIC-LOCATION:America/Detroit
BEGIN:DAYLIGHT
DTSTART:20250309T030000
TZOFFSETFROM:-0500
TZOFFSETTO:-0400
TZNAME:EDT
END:DAYLIGHT
END:VTIMEZONE
END:VCALENDAR