BEGIN:VCALENDAR
VERSION:2.0
PRODID:-//wp-events-plugin.com//7.2.3.1//EN
TZID:America/Detroit
X-WR-TIMEZONE:America/Detroit
BEGIN:VEVENT
UID:33990@arabamerica.com
DTSTART;TZID=America/Detroit:20250318T170000
DTEND;TZID=America/Detroit:20250318T210000
DTSTAMP:20250120T220535Z
URL:https://www.arabamerica.com/events/7th-annual-st-petersburg-iftar-dinn
 er-brought-to-you-by-tbama/
SUMMARY:7th Annual St Petersburg IFTAR Dinner\, brought to you by TBAMA
DESCRIPTION:Welcome to the 7th Annual St Petersburg IFTAR Dinner!\n\nPlease
  join the Tampa Bay Area Muslim Association and the City of St. Petersburg
  as we "break bread together with peace\, love\, and compassion for all hu
 manity."\n\nEach year the Tampa Bay Area Muslim Associations hosts a free 
 community Iftar dinner at the St. Petersburg Coliseum for over 800 communi
 ty members from various faiths\, and all walks of life\, to break down bar
 riers and find common ground.\n\nTogether we can rekindle our innate desir
 e as humans to connect with one another in productive and meaningful ways 
 and re-discover the spirit that unites us as "We the People" of St. Peters
 burg.\n\nIn the Muslim faith\, the holy month of Ramadan is about reflecti
 on\, community\, giving\, and prayer. Each night we break the month’s da
 ily fast with a celebratory Iftar dinner shared with family and friends. P
 lease join us.\n\nIMPORTANT NOTE: In order to cut down on noisy distractio
 ns during the program we encourage you to please arrive early and be seate
 d by the start of the event. If you do arrive late\, we will be asking you
  to please wait in the lobby until there is a break between speakers. We t
 hank you ahead of time for your consideration.\n\nNOTE: Doors will open at
  5:00 PM. Please arrive early if you wish to be seated with your guests. P
 rogram will begin promptly at 6:00 PM
ATTACH;FMTTYPE=image/jpeg:https://www.arabamerica.com/wp-content/uploads/2
 025/01/https-cdn.evbuc_.com-images-938970143-16161484987-1-original.202501
 18-162443.jpeg
LOCATION:The Coliseum\, 535 4th Avenue North\, St. Petersburg\, FL\, 33701\
 , United States
GEO:27.776926;-82.641172
X-APPLE-STRUCTURED-LOCATION;VALUE=URI;X-ADDRESS=535 4th Avenue North\, St. 
 Petersburg\, FL\, 33701\, United States;X-APPLE-RADIUS=100;X-TITLE=The Col
 iseum:geo:27.776926,-82.641172
END:VEVENT
BEGIN:VTIMEZONE
TZID:America/Detroit
X-LIC-LOCATION:America/Detroit
BEGIN:DAYLIGHT
DTSTART:20250309T030000
TZOFFSETFROM:-0500
TZOFFSETTO:-0400
TZNAME:EDT
END:DAYLIGHT
END:VTIMEZONE
END:VCALENDAR